BEGIN:VCALENDAR
VERSION:2.0
PRODID:-//Arhiepiscopia Sucevei și Rădăuților - ECPv5.13.0//NONSGML v1.0//EN
CALSCALE:GREGORIAN
METHOD:PUBLISH
X-WR-CALNAME:Arhiepiscopia Sucevei și Rădăuților
X-ORIGINAL-URL:https://www.arhiepiscopiasucevei.ro
X-WR-CALDESC:Events for Arhiepiscopia Sucevei și Rădăuților
REFRESH-INTERVAL;VALUE=DURATION:PT1H
X-Robots-Tag:noindex
X-PUBLISHED-TTL:PT1H
BEGIN:VTIMEZONE
TZID:Europe/Bucharest
BEGIN:DAYLIGHT
TZOFFSETFROM:+0200
TZOFFSETTO:+0300
TZNAME:EEST
DTSTART:20230326T010000
END:DAYLIGHT
BEGIN:STANDARD
TZOFFSETFROM:+0300
TZOFFSETTO:+0200
TZNAME:EET
DTSTART:20231029T010000
END:STANDARD
END:VTIMEZONE
BEGIN:VEVENT
DTSTART;TZID=Europe/Bucharest:20230401T040000
DTEND;TZID=Europe/Bucharest:20230401T123000
DTSTAMP:20260419T150230
CREATED:20230401T045907Z
LAST-MODIFIED:20230401T045920Z
UID:52426-1680321600-1680352200@www.arhiepiscopiasucevei.ro
SUMMARY:Agenda ierarhilor în Duminica a V-a din Post (a Mariei Egipteanca)
DESCRIPTION:Duminică\, 2 aprilie 2023 – Duminica a V-a din Post (a Sf. Maria Egipteanca) \nÎnaltpreasfințitul Părinte Calinic\, Arhiepiscop al Sucevei și Rădăuților\, va sluji Sfânta Liturghie la Paraclisul Mănăstirii „Sfântul Ioan cel Nou de la Suceava”. \nPreasfințitul Părinte Damaschin Dorneanul\, Episcop-Vicar al Arhiepiscopiei Sucevei și Rădăuților\, va sluji Sfânta Liturghie la Mănăstirea „Sfântul Ioan cel Nou”\, Catedrala Arhiepiscopală din Suceava.
URL:https://www.arhiepiscopiasucevei.ro/evenimente/agenda-ierarhilor-in-duminica-a-v-a-din-post-a-mariei-egipteanca/
CATEGORIES:Agenda Ierarhilor
END:VEVENT
BEGIN:VEVENT
DTSTART;TZID=Europe/Bucharest:20230409T043000
DTEND;TZID=Europe/Bucharest:20230409T180000
DTSTAMP:20260419T150230
CREATED:20230408T115930Z
LAST-MODIFIED:20230408T115930Z
UID:53240-1681014600-1681063200@www.arhiepiscopiasucevei.ro
SUMMARY:Agenda ierarhilor în Duminica a șasea din Post (Intrarea Domnului în Ierusalim) - 2023
DESCRIPTION:Duminică\, 9 aprilie 2023 – Duminica a șasea din Post (Intrarea Domnului în Ierusalim) \nÎnaltpreasfințitul Părinte Calinic\, Arhiepiscop al Sucevei și Rădăuților\, va sluji Sfânta Liturghie la Mănăstirea „Sfântul Ioan cel Nou”\, Catedrala Arhiepiscopală din Suceava. \nPreasfințitul Părinte Damaschin Dorneanul\, Episcop-Vicar al Arhiepiscopiei Sucevei și Rădăuților\, va sluji Sfânta Liturghie la Paraclisul Mănăstirii „Sfântul Ioan cel Nou de la Suceava”. \nÎncepând cu ora 16.00\, ierarhii vor săvârși Taina Sfântului Maslu\nla Mănăstirea „Sfântul Ioan cel Nou”\, Catedrala Arhiepiscopală din Suceava.\nEvenimentul va fi transmis LIVE pe pagina de Facebook al Arhiepiscopiei Sucevei și Rădăuților.
URL:https://www.arhiepiscopiasucevei.ro/evenimente/agenda-ierarhilor-in-duminica-a-sasea-din-post-intrarea-domnului-in-ierusalim-2023/
CATEGORIES:Agenda Ierarhilor
END:VEVENT
BEGIN:VEVENT
DTSTART;TZID=Europe/Bucharest:20230421T080000
DTEND;TZID=Europe/Bucharest:20230421T120000
DTSTAMP:20260419T150230
CREATED:20230419T190359Z
LAST-MODIFIED:20230419T190359Z
UID:54210-1682064000-1682078400@www.arhiepiscopiasucevei.ro
SUMMARY:Agenda ierarhilor la Sărbătoarea Izvorul Tămăduirii - 2023
DESCRIPTION:Vineri\, 21 aprilie 2023 – Izvorul Tămăduirii \nÎnaltpreasfințitul Părinte Calinic\, Arhiepiscop al Sucevei și Rădăuților\, va sluji Sfânta Liturghie la Mănăstirea „Sfântul Ioan cel Nou”\, Catedrala Arhiepiscopală din Suceava.
URL:https://www.arhiepiscopiasucevei.ro/evenimente/agenda-ierarhilor-la-sarbatoarea-izvorul-tamaduirii-2023/
CATEGORIES:Agenda Ierarhilor
END:VEVENT
BEGIN:VEVENT
DTSTART;TZID=Europe/Bucharest:20230430T080000
DTEND;TZID=Europe/Bucharest:20230430T113000
DTSTAMP:20260419T150230
CREATED:20230429T181142Z
LAST-MODIFIED:20230429T181142Z
UID:54626-1682841600-1682854200@www.arhiepiscopiasucevei.ro
SUMMARY:Agenda ierarhilor în Duminica a III-a după Paști (a Mironosițelor)
DESCRIPTION:Duminică\, 30 aprilie 2023 – Duminica a III-a după Paști (a Mironosițelor) \nÎnaltpreasfințitul Părinte Calinic\, Arhiepiscop al Sucevei și Rădăuților\, va sluji Sfânta Liturghie la Mănăstirea „Sfântul Ioan cel Nou”\, Catedrala Arhiepiscopală din Suceava.
URL:https://www.arhiepiscopiasucevei.ro/evenimente/agenda-ierarhilor-in-duminica-a-iii-a-dupa-pasti-a-mironositelor-2/
CATEGORIES:Agenda Ierarhilor
END:VEVENT
END:VCALENDAR