BEGIN:VCALENDAR
VERSION:2.0
PRODID:-//Arhiepiscopia Sucevei și Rădăuților - ECPv5.13.0//NONSGML v1.0//EN
CALSCALE:GREGORIAN
METHOD:PUBLISH
X-WR-CALNAME:Arhiepiscopia Sucevei și Rădăuților
X-ORIGINAL-URL:https://www.arhiepiscopiasucevei.ro
X-WR-CALDESC:Events for Arhiepiscopia Sucevei și Rădăuților
REFRESH-INTERVAL;VALUE=DURATION:PT1H
X-Robots-Tag:noindex
X-PUBLISHED-TTL:PT1H
BEGIN:VTIMEZONE
TZID:Europe/Bucharest
BEGIN:DAYLIGHT
TZOFFSETFROM:+0200
TZOFFSETTO:+0300
TZNAME:EEST
DTSTART:20230326T010000
END:DAYLIGHT
BEGIN:STANDARD
TZOFFSETFROM:+0300
TZOFFSETTO:+0200
TZNAME:EET
DTSTART:20231029T010000
END:STANDARD
END:VTIMEZONE
BEGIN:VEVENT
DTSTART;TZID=Europe/Bucharest:20230205T040000
DTEND;TZID=Europe/Bucharest:20230205T130000
DTSTAMP:20260419T180711
CREATED:20230204T113241Z
LAST-MODIFIED:20230225T072741Z
UID:48990-1675569600-1675602000@www.arhiepiscopiasucevei.ro
SUMMARY:Agenda ierarhilor în Duminica a XXXIII-a după Rusalii (a Vameșului și a Fariseului) - începutul perioadei Triodului
DESCRIPTION:Duminică\, 5 februarie 2023 – Duminica a XXXIII-a după Rusalii (a Vameșului și a Fariseului) – începutul perioadei Triodului \nÎnaltpreasfințitul Părinte Calinic\, Arhiepiscop al Sucevei și Rădăuților\, va sluji Sfânta Liturghie în Paraclisul „Mănăstirii Sfântul Ioan cel Nou”. \nPreasfințitul Părinte Damaschin Dorneanul\, Episcop-Vicar al Arhiepiscopiei Sucevei și Rădăuților\, va sluji Sfânta Liturghie în Biserica „Sfinții Apostoli Petru și Pavel” din Suceava (Ițcani).
URL:https://www.arhiepiscopiasucevei.ro/evenimente/agenda-ierarhilor-in-duminica-a-xxxiii-a-dupa-rusalii-a-vamesului-si-a-fariseului-2023/
CATEGORIES:Agenda Ierarhilor
END:VEVENT
BEGIN:VEVENT
DTSTART;TZID=Europe/Bucharest:20230212T040000
DTEND;TZID=Europe/Bucharest:20230212T130000
DTSTAMP:20260419T180711
CREATED:20230211T124612Z
LAST-MODIFIED:20230211T125001Z
UID:49289-1676174400-1676206800@www.arhiepiscopiasucevei.ro
SUMMARY:Agenda ierarhilor în Duminica a XXXIV-a după Rusalii (a Întoarcerii Fiului risipitor) - 2023
DESCRIPTION:Duminică\, 12 februarie 2023 – Duminica a XXXIV-a după Rusalii (a Întoarcerii Fiului risipitor) \nÎnaltpreasfințitul Părinte Calinic\, Arhiepiscop al Sucevei și Rădăuților\, va sluji Sfânta Liturghie în Paraclisul Mănăstirii „Sfântul Ioan cel Nou de la Suceava”. \nPreasfințitul Părinte Damaschin Dorneanul\, Episcop-Vicar al Arhiepiscopiei Sucevei și Rădăuților\, va sluji Sfânta Liturghie la Parohia „Sfânta Treime” Vadu Moldovei\, Protopopiatul Fălticeni.
URL:https://www.arhiepiscopiasucevei.ro/evenimente/agenda-ierarhilor-in-duminica-a-xxxiv-a-dupa-rusalii-a-intoarcerii-fiului-risipitor-2023/
CATEGORIES:Agenda Ierarhilor
END:VEVENT
BEGIN:VEVENT
DTSTART;TZID=Europe/Bucharest:20230219T080000
DTEND;TZID=Europe/Bucharest:20230219T130000
DTSTAMP:20260419T180711
CREATED:20230218T124350Z
LAST-MODIFIED:20230218T124350Z
UID:50143-1676793600-1676811600@www.arhiepiscopiasucevei.ro
SUMMARY:Agenda ierarhilor în Duminica Înfricoșătoarei Judecăți (a lăsatului sec de carne)
DESCRIPTION:Duminică\, 19 februarie 2023 – Duminica Înfricoșătoarei judecăți (a lăsatului sec de carne) \nÎnaltpreasfințitul Părinte Calinic\, Arhiepiscop al Sucevei și Rădăuților\, va sluji Sfânta Liturghie la Mănăstirea „Sfântul Ioan cel Nou de la Suceava”. \nPreasfințitul Părinte Damaschin Dorneanul\, Episcop-Vicar al Arhiepiscopiei Sucevei și Rădăuților\, va sluji Sfânta Liturghie la Catedrala „Adormirea Maicii Domnului” din Deva\, cu prilejul hirotoniei noului Arhiereu-Vicar al Episcopei Devei și Hunedoarei.
URL:https://www.arhiepiscopiasucevei.ro/evenimente/agenda-ierarhilor-in-duminica-infricosatoarei-judecati-a-lasatului-sec-de-carne-2/
CATEGORIES:Agenda Ierarhilor
END:VEVENT
BEGIN:VEVENT
DTSTART;TZID=Europe/Bucharest:20230226T080000
DTEND;TZID=Europe/Bucharest:20230226T120000
DTSTAMP:20260419T180711
CREATED:20230225T103352Z
LAST-MODIFIED:20230225T103352Z
UID:50350-1677398400-1677412800@www.arhiepiscopiasucevei.ro
SUMMARY:Agenda ierarhilor în Duminica Izgonirii lui Adam din Rai (a lăsatului sec de brânză)
DESCRIPTION:Duminică\, 26 februarie 2023 – Duminica Izgonirii lui Adam din Rai (a lăsatului sec de brânză) \nÎnaltpreasfințitul Părinte Calinic\, Arhiepiscop al Sucevei și Rădăuților\, va sluji Sfânta Liturghie la Mănăstirea „Sfântul Ioan cel Nou de la Suceava”. \nPreasfințitul Părinte Damaschin Dorneanul\, Episcop-Vicar al Arhiepiscopiei Sucevei și Rădăuților\, va sluji Sfânta Liturghie la Centrul Cultural Catehetic „Sfântul Nicolae”\, din cadrul Colegiului Național „Nicu Gane”\, Fălticeni.
URL:https://www.arhiepiscopiasucevei.ro/evenimente/agenda-ierarhilor-in-duminica-izgonirii-lui-adam-din-rai-a-lasatului-sec-de-branza/
END:VEVENT
END:VCALENDAR