BEGIN:VCALENDAR
VERSION:2.0
PRODID:-//Arhiepiscopia Sucevei și Rădăuților - ECPv5.13.0//NONSGML v1.0//EN
CALSCALE:GREGORIAN
METHOD:PUBLISH
X-WR-CALNAME:Arhiepiscopia Sucevei și Rădăuților
X-ORIGINAL-URL:https://www.arhiepiscopiasucevei.ro
X-WR-CALDESC:Events for Arhiepiscopia Sucevei și Rădăuților
REFRESH-INTERVAL;VALUE=DURATION:PT1H
X-Robots-Tag:noindex
X-PUBLISHED-TTL:PT1H
BEGIN:VTIMEZONE
TZID:Europe/Bucharest
BEGIN:DAYLIGHT
TZOFFSETFROM:+0200
TZOFFSETTO:+0300
TZNAME:EEST
DTSTART:20220327T010000
END:DAYLIGHT
BEGIN:STANDARD
TZOFFSETFROM:+0300
TZOFFSETTO:+0200
TZNAME:EET
DTSTART:20221030T010000
END:STANDARD
END:VTIMEZONE
BEGIN:VEVENT
DTSTART;TZID=Europe/Bucharest:20220904T080000
DTEND;TZID=Europe/Bucharest:20220904T170000
DTSTAMP:20260420T013506
CREATED:20220903T071655Z
LAST-MODIFIED:20220903T071655Z
UID:39797-1662278400-1662310800@www.arhiepiscopiasucevei.ro
SUMMARY:Agenda ierarhilor în Duminica a XII-a după Rusalii
DESCRIPTION:Duminică\, 4 septembrie 2022 – Duminica a XII-a după Rusalii (Tânărului bogat) \nÎnaltpreasfințitul Părinte Calinic\, Arhiepiscop al Sucevei și Rădăuților\, și Preasfințitul Părinte Damaschin Dorneanul\, Episcop-vicar\, vor sluji Sfânta Liturghie în localitatea Dumbrăveni\, cu prilejul evenimentelor cultural-misionare desfășurate în comuna suceveană\, sub numele „Suflet lângă suflet”\, ajunse la ediția a II-a.
URL:https://www.arhiepiscopiasucevei.ro/evenimente/agenda-ierarhilor-in-duminica-a-xii-a-dupa-rusalii/
END:VEVENT
BEGIN:VEVENT
DTSTART;TZID=Europe/Bucharest:20220908T080000
DTEND;TZID=Europe/Bucharest:20220908T170000
DTSTAMP:20260420T013506
CREATED:20220907T083035Z
LAST-MODIFIED:20220907T090423Z
UID:39985-1662624000-1662656400@www.arhiepiscopiasucevei.ro
SUMMARY:Agenda ierarhilor la Sărbătoarea Nașterea Maicii Domnului
DESCRIPTION:Joi\, 8 septembrie 2022 – Nașterea Maicii Domnului \nÎnaltpreasfințitul Părinte Calinic\, Arhiepiscop al Sucevei și Rădăuților\, și Preasfințitul Părinte Damaschin Dorneanul\, Episcop-Vicar\, vor sluji Sfânta Liturghie la Mănăstirea Cămârzani\, Protopopiatul Fălticeni\, cu prilejul hramului așezământului monahal.
URL:https://www.arhiepiscopiasucevei.ro/evenimente/agenda-ierarhilor-la-sarbatoarea-nasterea-maicii-domnului/
CATEGORIES:Agenda Ierarhilor
END:VEVENT
BEGIN:VEVENT
DTSTART;TZID=Europe/Bucharest:20220911T080000
DTEND;TZID=Europe/Bucharest:20220911T130000
DTSTAMP:20260420T013506
CREATED:20220910T124141Z
LAST-MODIFIED:20220910T140310Z
UID:40030-1662883200-1662901200@www.arhiepiscopiasucevei.ro
SUMMARY:Agenda ierarhilor în Duminica dinaintea Înălțării Sfintei Cruci
DESCRIPTION:Duminică\, 11 septembrie 2022 – Duminica dinaintea Înălțării Sfintei Cruci (Convorbirea lui Iisus cu Nicodim) \nÎnaltpreasfințitul Părinte Calinic\, Arhiepiscop al Sucevei și Rădăuților\, va sluji Sfânta Liturghie la Mănăstirea „Sfântul Ioan cel Nou de la Suceava”. \nPreasfințitul Părinte Damaschin Dorneanul\, Episcop-Vicar al Arhiepiscopiei Sucevei și Rădăuților\, va slujii Sfânta Liturghie în Parohia „Tuturor Sfinților”\, Voitinel II\, Protopopiatul Rădăuți
URL:https://www.arhiepiscopiasucevei.ro/evenimente/agenda-ierarhilor-in-duminica-dinaintea-inaltarii-sfintei-cruci/
CATEGORIES:Agenda Ierarhilor
END:VEVENT
BEGIN:VEVENT
DTSTART;TZID=Europe/Bucharest:20220918T050000
DTEND;TZID=Europe/Bucharest:20220918T130000
DTSTAMP:20260420T013506
CREATED:20220917T131331Z
LAST-MODIFIED:20220917T132539Z
UID:40342-1663477200-1663506000@www.arhiepiscopiasucevei.ro
SUMMARY:Agenda ierarhilor în Duminica după Înălțarea Sfintei Cruci
DESCRIPTION:Duminică\, 18 septembrie 2022 – Duminica după Înălțarea Sfintei Cruci (Luarea Crucii și urmarea lui Hristos) \nÎnaltpreasfințitul Părinte Calinic\, Arhiepiscop al Sucevei și Rădăuților\, va sluji Sfânta Liturghie în Paraclisul Mănăstirii „Sfântul Ioan cel Nou de la Suceava”. \nPreasfințitul Părinte Damaschin Dorneanul\, Episcop-Vicar al Arhiepiscopiei Sucevei și Rădăuților\, va slujii Sfânta Liturghie în Parohia „Înălțarea Domnului” Doroteia\, Protopopiatul Câmpulung Moldovenesc.
URL:https://www.arhiepiscopiasucevei.ro/evenimente/agenda-ierarhilor-in-duminica-dupa-inaltarea-sfintei-cruci-2/
CATEGORIES:Agenda Ierarhilor
END:VEVENT
BEGIN:VEVENT
DTSTART;TZID=Europe/Bucharest:20220923T090000
DTEND;TZID=Europe/Bucharest:20220923T120000
DTSTAMP:20260420T013506
CREATED:20220922T114055Z
LAST-MODIFIED:20220922T114055Z
UID:40666-1663923600-1663934400@www.arhiepiscopiasucevei.ro
SUMMARY:Agenda ierarhilor în ziua cinstirii Icoanei făcătoare de minuni a Sfântului Ioan Botezătorul de la Mănăstirea Gorovei
DESCRIPTION:Vineri\, 23 septembrie 2022 – În ziua cinstirii Icoanei făcătoare de minuni a Sfântului Ioan Botezătorul de la Mănăstirea Gorovei \nÎnaltpreasfințitul Părinte Calinic\, Arhiepiscop al Sucevei și Rădăuților\, va săvârși Sfânta Liturghie la Mănăstirea Gorovei\, cu prilejul cinstirii Icoanei făcătoare de minuni a Sfântului Ioan Botezătorul\, odor al sfântului locaș.
URL:https://www.arhiepiscopiasucevei.ro/evenimente/agenda-ierarhilor-in-ziua-cinstirii-icoanei-facatoare-de-minuni-a-sfantului-ioan-botezatorul-de-la-manastirea-gorovei/
CATEGORIES:Agenda Ierarhilor
END:VEVENT
BEGIN:VEVENT
DTSTART;TZID=Europe/Bucharest:20220925T050000
DTEND;TZID=Europe/Bucharest:20220925T160000
DTSTAMP:20260420T013506
CREATED:20220924T112916Z
LAST-MODIFIED:20220924T112916Z
UID:40691-1664082000-1664121600@www.arhiepiscopiasucevei.ro
SUMMARY:Agenda ierarhilor în Duminica a XVIII-a după Rusalii
DESCRIPTION:Duminică\, 25 septembrie 2022 – Duminica a XVIII-a după Rusalii (Pescuirea minunată) \nÎnaltpreasfințitul Părinte Calinic\, Arhiepiscop al Sucevei și Rădăuților\, va sluji Sfânta Liturghie în Paraclisul Mănăstirii „Sfântul Ioan cel Nou de la Suceava”. \nPreasfințitul Părinte Damaschin Dorneanul\, Episcop-Vicar al Arhiepiscopiei Sucevei și Rădăuților\, va slujii Sfânta Liturghie în Parohia „Adormirea maicii Domnului” Valea Bourei\, Protopopiatul Fălticeni. Începând cu ora 14.30\, Preasfinția Sa va sfinți magazinul bisericesc „Arimateea – Bucurii pentru suflet” din Municipiul Fălticeni.
URL:https://www.arhiepiscopiasucevei.ro/evenimente/agenda-ierarhilor-in-duminica-a-xviii-a-dupa-rusalii-2/
CATEGORIES:Agenda Ierarhilor
END:VEVENT
END:VCALENDAR