BEGIN:VCALENDAR
VERSION:2.0
PRODID:-//Arhiepiscopia Sucevei și Rădăuților - ECPv5.13.0//NONSGML v1.0//EN
CALSCALE:GREGORIAN
METHOD:PUBLISH
X-WR-CALNAME:Arhiepiscopia Sucevei și Rădăuților
X-ORIGINAL-URL:https://www.arhiepiscopiasucevei.ro
X-WR-CALDESC:Events for Arhiepiscopia Sucevei și Rădăuților
REFRESH-INTERVAL;VALUE=DURATION:PT1H
X-Robots-Tag:noindex
X-PUBLISHED-TTL:PT1H
BEGIN:VTIMEZONE
TZID:Europe/Bucharest
BEGIN:DAYLIGHT
TZOFFSETFROM:+0200
TZOFFSETTO:+0300
TZNAME:EEST
DTSTART:20220327T010000
END:DAYLIGHT
BEGIN:STANDARD
TZOFFSETFROM:+0300
TZOFFSETTO:+0200
TZNAME:EET
DTSTART:20221030T010000
END:STANDARD
END:VTIMEZONE
BEGIN:VEVENT
DTSTART;TZID=Europe/Bucharest:20220710T050000
DTEND;TZID=Europe/Bucharest:20220710T170000
DTSTAMP:20260420T045946
CREATED:20220709T130440Z
LAST-MODIFIED:20220709T130641Z
UID:37872-1657429200-1657472400@www.arhiepiscopiasucevei.ro
SUMMARY:Agenda ierarhilor în Duminica a IV-a după Rusalii (Vindecarea slugii sutașului)
DESCRIPTION:Duminică\, 10 iulie 2022 – Duminica a IV-a după Rusalii (Vindecarea slugii sutașului) \nÎnaltpreasfințitul Părinte Calinic\, Arhiepiscop al Sucevei și Rădăuților\, va sluji Sfânta Liturghie în Paraclisul Mănăstirii „Sfântul Ioan cel Nou de la Suceava”. \nPreasfințitul Părinte Damaschin Dorneanul\, Episcop-Vicar al Arhiepiscopiei Sucevei și Rădăuților\, va sluji Sfânta Liturghie la Parohia „Sfântul Mare Mucenic Dimitrie – Izvorâtorul de Mir” Ciprian Porumbescu\, cu prilejul manifestărilor cultural-misionare „Armonie pastorală și unire în simțire”\, la împlinirea a 135 de ani de la punerea pietrei de temelie a bisericii.
URL:https://www.arhiepiscopiasucevei.ro/evenimente/agenda-ierarhilor-in-duminica-a-iv-a-dupa-rusalii-vindecarea-slugii-sutasului/
CATEGORIES:Agenda Ierarhilor
END:VEVENT
BEGIN:VEVENT
DTSTART;TZID=Europe/Bucharest:20220717T080000
DTEND;TZID=Europe/Bucharest:20220717T170000
DTSTAMP:20260420T045946
CREATED:20220716T123010Z
LAST-MODIFIED:20220728T102214Z
UID:38210-1658044800-1658077200@www.arhiepiscopiasucevei.ro
SUMMARY:Agenda ierarhilor în Duminica a V-a după Rusalii
DESCRIPTION:Duminică\, 17 iulie 2022 – Duminica a V-a după Rusalii (Vindecarea celor doi demonizați din ținutul Gadarei) \nÎnaltpreasfințitul Părinte Calinic\, Arhiepiscop al Sucevei și Rădăuților\, va sluji Sfânta Liturghie la Mănăstirea „Sfântul Ioan cel Nou de la Suceava”. \nPreasfințitul Părinte Damaschin Dorneanul\, Episcop-Vicar al Arhiepiscopiei Sucevei și Rădăuților\, va sluji Sfânta Liturghie la Parohia „Sfântul Mare Mucenic Gheorghe”\, din cartierul Burdujeni\, Municipiul Suceava.
URL:https://www.arhiepiscopiasucevei.ro/evenimente/agenda-ierarhilor-n-duminica-a-v-a-dupa-rusalii/
CATEGORIES:Agenda Ierarhilor
END:VEVENT
BEGIN:VEVENT
DTSTART;TZID=Europe/Bucharest:20220720T073000
DTEND;TZID=Europe/Bucharest:20220720T120000
DTSTAMP:20260420T045946
CREATED:20220719T085759Z
LAST-MODIFIED:20220719T085814Z
UID:38414-1658302200-1658318400@www.arhiepiscopiasucevei.ro
SUMMARY:Agenda ierarhilor la Sărbătoarea Sfântului Proroc Ilie Tesviteanul
DESCRIPTION:Miercuri\, 20 iulie 2022 – Sfântul Proroc Ilie Tesviteanul \nÎnaltpreasfințitul Părinte Arhiepiscop Calinic\, împreună cu Preasfințitul Părinte Damaschin Dorneanul\, Episcop-Vicar al Arhiepiscopiei Sucevei și Rădăuților\, va săvârși slujba de resfințire a bisericii monument a Mănăstirii „Sfântul Ilie” Șcheia și va oficia Sfânta Liturghie pe un podium special amenajat în curtea locașului de cult. \nProgramul liturgic detaliat\, precum și mai multe informații istorice puteți afla AICI.
URL:https://www.arhiepiscopiasucevei.ro/evenimente/agenda-ierarhilor-la-sarbatoarea-sfantului-proroc-ilie-tesviteanul-2/
CATEGORIES:Agenda Ierarhilor
END:VEVENT
BEGIN:VEVENT
DTSTART;TZID=Europe/Bucharest:20220723T080000
DTEND;TZID=Europe/Bucharest:20220723T170000
DTSTAMP:20260420T045946
CREATED:20220723T072954Z
LAST-MODIFIED:20220723T073006Z
UID:38557-1658563200-1658595600@www.arhiepiscopiasucevei.ro
SUMMARY:Agenda ierarhilor în Duminica a VI-a după Rusalii (24 iulie 2022)
DESCRIPTION:Duminică\, 24 iulie 2022 – Duminica a VI-a după Rusalii (Vindecarea slăbănogului din Capernaum) \nÎnaltpreasfințitul Părinte Calinic\, Arhiepiscop al Sucevei și Rădăuților\, va sluji Sfânta Liturghie la Mănăstirea „Sfântul Ioan cel Nou de la Suceava”. \nPreasfințitul Părinte Damaschin Dorneanul\, Episcop-Vicar al Arhiepiscopiei Sucevei și Rădăuților\, va oficia\, alături de Înaltpreasfințitul Părinte Teodosie\, Arhiespicopul Tomisului\, slujba de resfințire și Sfânta Liturghie la Parohia „Sfinții Arhangheli Mihail și Gavriil” Corlata.
URL:https://www.arhiepiscopiasucevei.ro/evenimente/agenda-ierarhilor-in-duminica-a-vi-a-dupa-rusalii-24-iulie-2022/
CATEGORIES:Agenda Ierarhilor
END:VEVENT
BEGIN:VEVENT
DTSTART;TZID=Europe/Bucharest:20220730T080000
DTEND;TZID=Europe/Bucharest:20220730T170000
DTSTAMP:20260420T045946
CREATED:20220730T124520Z
LAST-MODIFIED:20220730T124520Z
UID:38840-1659168000-1659200400@www.arhiepiscopiasucevei.ro
SUMMARY:Agenda ierarhilor în Duminica a VII-a după Rusalii
DESCRIPTION:Duminică\, 31 iulie 2022 – Duminica a VII-a după Rusalii (Vindecarea a doi orbi și a unui mut din Capernaum) \nÎnaltpreasfințitul Părinte Calinic\, Arhiepiscop al Sucevei și Rădăuților\, va sluji Sfânta Liturghie la Mănăstirea „Sfântul Ioan cel Nou de la Suceava”. \nPreasfințitul Părinte Damaschin Dorneanul\, Episcop-Vicar al Arhiepiscopiei Sucevei și Rădăuților\, va sluji Sfânta Liturghie la Schitul „Sfinții Apostoli Petru și Pavel” Botoș.
URL:https://www.arhiepiscopiasucevei.ro/evenimente/agenda-ierarhilor-in-duminica-a-vii-a-dupa-rusalii/
CATEGORIES:Agenda Ierarhilor
END:VEVENT
END:VCALENDAR