BEGIN:VCALENDAR
VERSION:2.0
PRODID:-//Arhiepiscopia Sucevei și Rădăuților - ECPv5.13.0//NONSGML v1.0//EN
CALSCALE:GREGORIAN
METHOD:PUBLISH
X-WR-CALNAME:Arhiepiscopia Sucevei și Rădăuților
X-ORIGINAL-URL:https://www.arhiepiscopiasucevei.ro
X-WR-CALDESC:Events for Arhiepiscopia Sucevei și Rădăuților
REFRESH-INTERVAL;VALUE=DURATION:PT1H
X-Robots-Tag:noindex
X-PUBLISHED-TTL:PT1H
BEGIN:VTIMEZONE
TZID:Europe/Bucharest
BEGIN:DAYLIGHT
TZOFFSETFROM:+0200
TZOFFSETTO:+0300
TZNAME:EEST
DTSTART:20220327T010000
END:DAYLIGHT
BEGIN:STANDARD
TZOFFSETFROM:+0300
TZOFFSETTO:+0200
TZNAME:EET
DTSTART:20221030T010000
END:STANDARD
END:VTIMEZONE
BEGIN:VEVENT
DTSTART;TZID=Europe/Bucharest:20220501T080000
DTEND;TZID=Europe/Bucharest:20220501T110000
DTSTAMP:20260420T083557
CREATED:20220430T080838Z
LAST-MODIFIED:20220430T080838Z
UID:32444-1651392000-1651402800@www.arhiepiscopiasucevei.ro
SUMMARY:Agenda ierarhului în Duminica a II-a după Paști (a Sf. Apostol Toma)
DESCRIPTION:Duminică\, 1 mai 2022 – Duminica a II-a după Paști (a Sf. Apostol Toma) \nÎnaltpreasfințitul Părinte Calinic\, Arhiepiscop al Sucevei și Rădăuților\, va sluji Sfânta Liturghie la Mănăstirea „Sfântul Ioan cel Nou”\, Catedrala Arhiepiscopală din Suceava.
URL:https://www.arhiepiscopiasucevei.ro/evenimente/agenda-ierarhului-in-duminica-a-ii-a-dupa-pasti-a-sf-apostol-toma/
CATEGORIES:Agenda Ierarhilor
END:VEVENT
BEGIN:VEVENT
DTSTART;TZID=Europe/Bucharest:20220508T080000
DTEND;TZID=Europe/Bucharest:20220508T130000
DTSTAMP:20260420T083557
CREATED:20220506T191720Z
LAST-MODIFIED:20220506T191720Z
UID:32697-1651996800-1652014800@www.arhiepiscopiasucevei.ro
SUMMARY:Agenda ierarhilor în Duminica a III-a după Paști (a Mironosițelor)
DESCRIPTION:Duminică\, 8 mai 2022 – Duminica a III-a după Paști (a Mironosițelor) \nÎnaltpreasfințitul Părinte Calinic\, Arhiepiscop al Sucevei și Rădăuților\, va sluji Sfânta Liturghie la Mănăstirea „Sfântul Ioan cel Nou”\, Catedrala Arhiepiscopală din Suceava. \nPreasfințitul Părinte Damaschin Dorneanul\, Episcop-Vicar al Arhiepiscopiei Sucevei și Rădăuților\, va resfinți Biserica „Sfinții Enoh\, Ilie și Ioan Teologul” (Dragomirna mică) și va sluji Sfânta Liturghie la Mănăstirea Dragomirna.
URL:https://www.arhiepiscopiasucevei.ro/evenimente/agenda-ierarhilor-in-duminica-a-iii-a-dupa-pasti-a-mironositelor/
CATEGORIES:Agenda Ierarhilor
END:VEVENT
BEGIN:VEVENT
DTSTART;TZID=Europe/Bucharest:20220515T073000
DTEND;TZID=Europe/Bucharest:20220515T130000
DTSTAMP:20260420T083557
CREATED:20220514T093251Z
LAST-MODIFIED:20220514T093424Z
UID:33087-1652599800-1652619600@www.arhiepiscopiasucevei.ro
SUMMARY:Agenda ierarhilor în Duminica a IV-a după Paști (15 mai 2022)
DESCRIPTION:Duminică\, 15 mai 2022 – Duminica a IV-a după Paști (a Slăbănogului) \nÎnaltpreasfințitul Părinte Calinic\, Arhiepiscop al Sucevei și Rădăuților\, va sluji Sfânta Liturghie la Mănăstirea Putna\, cu prilejul hramului – Sfântul Ierarh Iacob Putneanul. \nPreasfințitul Părinte Damaschin Dorneanul\, Episcop-Vicar al Arhiepiscopiei Sucevei și Rădăuților\, va sluji Sfânta Liturghie la Mănăstirea „Sfântul Ioan cel Nou”\, Catedrala Arhiepiscopală din Suceava. Seara\, ierarhul va oficia Slujba Privegherii la Mănăstirea Sihăstria Putnei\, în ajunul prăznuirii Sfinților Cuvioși Sila\, Paisie și Natan\, ocrotitorii așezământului monahal.
URL:https://www.arhiepiscopiasucevei.ro/evenimente/agenda-ierarhilor-in-duminica-a-iv-a-dupa-pasti-15-mai-2022/
END:VEVENT
BEGIN:VEVENT
DTSTART;TZID=Europe/Bucharest:20220520T080000
DTEND;TZID=Europe/Bucharest:20220520T170000
DTSTAMP:20260420T083557
CREATED:20220520T161402Z
LAST-MODIFIED:20220520T161411Z
UID:33487-1653033600-1653066000@www.arhiepiscopiasucevei.ro
SUMMARY:Agenda ierarhilor la Sărbătoarea Sfinților Împărați Constantin și Elena
DESCRIPTION:Sâmbătă\, 21 mai 2022 – Sfinții Împărați Constantin și Elena \nÎnaltpreasfințitul Părinte Calinic\, Arhiepiscop al Sucevei și Rădăuților\, va sluji Sfânta Liturghie în Paraclisul Mănăstirii “Sfântul Ioan cel Nou”. \nPreasfințitul Părinte Damaschin Dorneanul\, Episcop-Vicar al Arhiepiscopiei Sucevei și Rădăuților\, va sluji Sfânta Liturghie la Parohia “Sfinții Împărați Constantin și Elena”\, Suceava\, Protopopiatul Suceava I.
URL:https://www.arhiepiscopiasucevei.ro/evenimente/agenda-ierarhilor-la-sarbatoarea-sfintilor-imparati-constantin-si-elena/
CATEGORIES:Agenda Ierarhilor
END:VEVENT
BEGIN:VEVENT
DTSTART;TZID=Europe/Bucharest:20220520T080000
DTEND;TZID=Europe/Bucharest:20220520T170000
DTSTAMP:20260420T083557
CREATED:20221129T123904Z
LAST-MODIFIED:20221129T124345Z
UID:44262-1653033600-1653066000@www.arhiepiscopiasucevei.ro
SUMMARY:Agenda ierarhilor la Sărbătoarea Sfântului Apostol Andrei\, cel Întâi Chemat\, Ocrotitorul României
DESCRIPTION:Miercuri\, 30 noiembrie 2022 – Sfântul Apostol Andrei\, cel Întâi Chemat\, Ocrotitorul României \nÎnaltpreasfințitul Părinte Calinic\, Arhiepiscop al Sucevei și Rădăuților\, va sluji Sfânta Liturghie în Paraclisul Mănăstirii „Sfântul Ioan cel Nou”. \nDe la ora 16:00\, Înaltpreasfinția Sa va participa la slujba Vecerniei de la Mănăstirea Catrinari\, în cadrul căreia îl va hirotesi arhimandrit pe protos. Haralambie Țanef\, duhovnicul așezământului monahal. \nPreasfințitul Părinte Damaschin Dorneanul\, Episcop-Vicar al Arhiepiscopiei Sucevei și Rădăuților\, va sluji Sfânta Liturghie la Catedrala Arhiepiscopală din Galați\, alături de un sobor de ierarhi\, cu prilejul hramului.
URL:https://www.arhiepiscopiasucevei.ro/evenimente/agenda-ierarhilor-la-sarbatoarea-sfantului-apostol-andrei-cel-intai-chemat-ocrotitorul-romaniei/
CATEGORIES:Agenda Ierarhilor
END:VEVENT
BEGIN:VEVENT
DTSTART;TZID=Europe/Bucharest:20220522T080000
DTEND;TZID=Europe/Bucharest:20220522T120000
DTSTAMP:20260420T083557
CREATED:20220521T115041Z
LAST-MODIFIED:20220521T115041Z
UID:33539-1653206400-1653220800@www.arhiepiscopiasucevei.ro
SUMMARY:Agenda ierarhilor în Duminica a V-a după Paști (a Samarinencii)
DESCRIPTION:Duminică\, 22 mai 2022 – Duminica a cincea după Paști (a Samarinencii) \nÎnaltpreasfințitul Părinte Calinic\, Arhiepiscop al Sucevei și Rădăuților\, va sluji Sfânta Liturghie la Mănăstirea Sfântul Ioan cel Nou\, Catedrala Arhiepiscopală din Suceava. \nPreasfințitul Părinte Damaschin Dorneanul\, Episcop-Vicar al Arhiepiscopiei Sucevei și Rădăuților\, va sluji Sfânta Liturghie în Parohia Poiana-Zvorâștea. \n 
URL:https://www.arhiepiscopiasucevei.ro/evenimente/agenda-ierarhilor-in-duminica-a-v-a-dupa-pasti-a-samarinencii/
CATEGORIES:Agenda Ierarhilor
END:VEVENT
BEGIN:VEVENT
DTSTART;TZID=Europe/Bucharest:20220529T080000
DTEND;TZID=Europe/Bucharest:20220529T130000
DTSTAMP:20260420T083557
CREATED:20220528T083431Z
LAST-MODIFIED:20220528T090410Z
UID:33876-1653811200-1653829200@www.arhiepiscopiasucevei.ro
SUMMARY:Agenda ierarhilor în Duminica a VI-a după Paști (a Orbului din naștere)
DESCRIPTION:Duminică\, 29 mai 2022 – Duminica a VI-a după Paști (a Orbului din naștere) \nÎnaltpreasfințitul Părinte Calinic\, Arhiepiscop al Sucevei și Rădăuților\, va sluji Sfânta Liturghie la Mănăstirea Sfântul Ioan cel Nou\, Catedrala Arhiepiscopală din Suceava. \nPreasfințitul Părinte Damaschin Dorneanul\, Episcop-Vicar al Arhiepiscopiei Sucevei și Rădăuților\, va sluji Sfânta Liturghie în Parohia Ortodoxă „Acoperământul Maicii Domnului”\, Vicovu de Sus – Plai\, Protopopiatul Rădăuți.
URL:https://www.arhiepiscopiasucevei.ro/evenimente/agenda-ierarhilor-in-duminica-a-vi-a-dupa-pasti-a-orbului-din-nastere/
CATEGORIES:Agenda Ierarhilor
END:VEVENT
END:VCALENDAR