BEGIN:VCALENDAR
VERSION:2.0
PRODID:-//Arhiepiscopia Sucevei și Rădăuților - ECPv5.13.0//NONSGML v1.0//EN
CALSCALE:GREGORIAN
METHOD:PUBLISH
X-WR-CALNAME:Arhiepiscopia Sucevei și Rădăuților
X-ORIGINAL-URL:https://www.arhiepiscopiasucevei.ro
X-WR-CALDESC:Events for Arhiepiscopia Sucevei și Rădăuților
REFRESH-INTERVAL;VALUE=DURATION:PT1H
X-Robots-Tag:noindex
X-PUBLISHED-TTL:PT1H
BEGIN:VTIMEZONE
TZID:Europe/Bucharest
BEGIN:DAYLIGHT
TZOFFSETFROM:+0200
TZOFFSETTO:+0300
TZNAME:EEST
DTSTART:20220327T010000
END:DAYLIGHT
BEGIN:STANDARD
TZOFFSETFROM:+0300
TZOFFSETTO:+0200
TZNAME:EET
DTSTART:20221030T010000
END:STANDARD
END:VTIMEZONE
BEGIN:VEVENT
DTSTART;TZID=Europe/Bucharest:20220102T050000
DTEND;TZID=Europe/Bucharest:20220102T130000
DTSTAMP:20260420T151938
CREATED:20220101T173758Z
LAST-MODIFIED:20220101T173758Z
UID:26213-1641099600-1641128400@www.arhiepiscopiasucevei.ro
SUMMARY:Agenda ierarhilor în Duminica dinaintea Botezului Domnului
DESCRIPTION:Duminică\, 2 ianuarie 2022 – Duminica dinaintea Botezului Domnului (Predica Sfântului Ioan Botezătorul) \nÎnaltpreasfințitul Părinte Calinic\, Arhiepiscop al Sucevei și Rădăuților\, va sluji Sfânta Liturghie în Paraclisul Mănăstirii Sfântul Ioan cel Nou. \nPreasfințitul Părinte Damaschin Dorneanul\, Episcop-Vicar al Arhiepiscopiei Sucevei și Rădăuților\, va sluji Sfânta Liturghie la Mănăstirea Sihăstria Putnei.
URL:https://www.arhiepiscopiasucevei.ro/evenimente/agenda-ierarhilor-in-duminica-dinaintea-botezului-domnului/
END:VEVENT
BEGIN:VEVENT
DTSTART;TZID=Europe/Bucharest:20220106T073000
DTEND;TZID=Europe/Bucharest:20220106T123000
DTSTAMP:20260420T151938
CREATED:20220104T144541Z
LAST-MODIFIED:20220104T144541Z
UID:26282-1641454200-1641472200@www.arhiepiscopiasucevei.ro
SUMMARY:Agenda ierarhilor la Praznicul Botezul Domnului
DESCRIPTION:Joi\, 6 ianuarie 2022 – Praznicul Botezul Domnului \nÎnaltpreasfințitul Părinte Calinic\, Arhiepiscop al Sucevei și Rădăuților\, va sluji Sfânta Liturghie\, împreună cu părinții slujitori ai Catedralei Arhiepiscopale din Suceava\, pe scena amenajată în curtea Mănăstirii Sfântului Ioan cel Nou. \nPreasfințitul Părinte Damaschin Dorneanul\, Episcop-Vicar al Arhiepiscopiei Sucevei și Rădăuților\, va sluji Sfânta Liturghie la Catedrala „Pogorârea Sfântului Duh” din Rădăuți. \n 
URL:https://www.arhiepiscopiasucevei.ro/evenimente/agenda-ierarhilor-la-praznicul-botezul-domnului/
END:VEVENT
BEGIN:VEVENT
DTSTART;TZID=Europe/Bucharest:20220116T053000
DTEND;TZID=Europe/Bucharest:20220116T073000
DTSTAMP:20260420T151938
CREATED:20220115T133418Z
LAST-MODIFIED:20220115T133418Z
UID:26655-1642311000-1642318200@www.arhiepiscopiasucevei.ro
SUMMARY:Agenda ierarhilor în Duminica a XXIX-a după Rusalii
DESCRIPTION:Duminică\, 16 ianuarie 2022 – Duminica a XXIX-a după Rusalii (a celor zece leproși) \nÎnaltpreasfințitul Părinte Calinic\, Arhiepiscop al Sucevei și Rădăuților\, va sluji Sfânta Liturghie în Paraclisul Mănăstirii Sfântul Ioan cel Nou.
URL:https://www.arhiepiscopiasucevei.ro/evenimente/agenda-ierarhilor-in-duminica-a-xxix-a-dupa-rusalii/
END:VEVENT
BEGIN:VEVENT
DTSTART;TZID=Europe/Bucharest:20220123T050000
DTEND;TZID=Europe/Bucharest:20220123T120000
DTSTAMP:20260420T151938
CREATED:20220122T152816Z
LAST-MODIFIED:20220122T152840Z
UID:27024-1642914000-1642939200@www.arhiepiscopiasucevei.ro
SUMMARY:Agenda ierarhilor în Duminica a XXXI-a după Rusalii
DESCRIPTION:Duminică\, 23 ianuarie 2022 – Duminica a XXXI-a după Rusalii (vindecarea orbului din Ierihon) \nÎnaltpreasfințitul Părinte Calinic\, Arhiepiscop al Sucevei și Rădăuților\, va sluji Sfânta Liturghie în Paraclisul Mănăstirii Sfântul Ioan cel Nou. \nPreasfințitul Părinte Damaschin Dorneanul\, Episcop-Vicar al Arhiepiscopiei Sucevei și Rădăuților\, va sluji Sfânta Liturghie în Paraclisul Mănăstirii Sihăstria Putnei.
URL:https://www.arhiepiscopiasucevei.ro/evenimente/agenda-ierarhilor-in-duminica-a-xxxi-a-dupa-rusalii/
CATEGORIES:Agenda Ierarhilor
END:VEVENT
BEGIN:VEVENT
DTSTART;TZID=Europe/Bucharest:20220130T050000
DTEND;TZID=Europe/Bucharest:20220130T120000
DTSTAMP:20260420T151938
CREATED:20220130T135055Z
LAST-MODIFIED:20220130T135322Z
UID:27334-1643518800-1643544000@www.arhiepiscopiasucevei.ro
SUMMARY:Agenda ierarhilor în Duminica a XXXII-a după Rusalii
DESCRIPTION:Duminică\, 30 ianuarie 2022 – Duminica a XXXII-a după Rusalii (a lui Zaheu) \nZiua pomenirii Sfinților Trei Ierarhi: Vasile cel Mare\, Grigorie Teologul și Ioan Gură de Aur \nÎnaltpreasfințitul Părinte Calinic\, Arhiepiscop al Sucevei și Rădăuților\, va sluji Sfânta Liturghie în Paraclisul Mănăstirii Sfântul Ioan cel Nou. \nPreasfințitul Părinte Damaschin Dorneanul\, Episcop-Vicar al Arhiepiscopiei Sucevei și Rădăuților\, va sluji Sfânta Liturghie la Catedrala Mitropolitană din Iași.
URL:https://www.arhiepiscopiasucevei.ro/evenimente/agenda-ierarhilor-in-duminica-a-xxxii-a-dupa-rusalii/
CATEGORIES:Agenda Ierarhilor
END:VEVENT
END:VCALENDAR