BEGIN:VCALENDAR
VERSION:2.0
PRODID:-//Arhiepiscopia Sucevei și Rădăuților - ECPv5.13.0//NONSGML v1.0//EN
CALSCALE:GREGORIAN
METHOD:PUBLISH
X-WR-CALNAME:Arhiepiscopia Sucevei și Rădăuților
X-ORIGINAL-URL:https://www.arhiepiscopiasucevei.ro
X-WR-CALDESC:Events for Arhiepiscopia Sucevei și Rădăuților
REFRESH-INTERVAL;VALUE=DURATION:PT1H
X-Robots-Tag:noindex
X-PUBLISHED-TTL:PT1H
BEGIN:VTIMEZONE
TZID:Europe/Bucharest
BEGIN:DAYLIGHT
TZOFFSETFROM:+0200
TZOFFSETTO:+0300
TZNAME:EEST
DTSTART:20210328T010000
END:DAYLIGHT
BEGIN:STANDARD
TZOFFSETFROM:+0300
TZOFFSETTO:+0200
TZNAME:EET
DTSTART:20211031T010000
END:STANDARD
END:VTIMEZONE
BEGIN:VEVENT
DTSTART;TZID=Europe/Bucharest:20211205T080000
DTEND;TZID=Europe/Bucharest:20211205T130000
DTSTAMP:20260420T164757
CREATED:20211203T203918Z
LAST-MODIFIED:20211203T204223Z
UID:24928-1638691200-1638709200@www.arhiepiscopiasucevei.ro
SUMMARY:Agenda ierarhilor în Duminica a XXVII-a după Rusalii
DESCRIPTION:Duminică\, 5 decembrie 2021 – Duminica a XXVII-a după Rusalii (Tămăduirea femeii gârbove) \nÎnaltpreasfințitul Părinte Calinic\, Arhiepiscop al Sucevei și Rădăuților\, va sluji Sfânta Liturghie la Parohia „Sfântul Nicolae” – Salcea. \nPreasfințitul Părinte Damaschin Dorneanul\, Episcop-Vicar al Arhiepiscopiei Sucevei și Rădăuților\, va sluji Sfânta Liturghie la Catedrala Arhiepiscopală din Suceava – Mănăstirea „Sfântul Ioan cel Nou”.
URL:https://www.arhiepiscopiasucevei.ro/evenimente/agenda-ierarhilor-in-duminica-a-xxvii-a-dupa-rusalii/
CATEGORIES:Agenda Ierarhilor
END:VEVENT
BEGIN:VEVENT
DTSTART;TZID=Europe/Bucharest:20211206T050000
DTEND;TZID=Europe/Bucharest:20211206T173000
DTSTAMP:20260420T164757
CREATED:20211205T120226Z
LAST-MODIFIED:20211205T120226Z
UID:24988-1638766800-1638811800@www.arhiepiscopiasucevei.ro
SUMMARY:Agenda ierarhilor la Sărbătoarea Sfântului Ierarh Nicolae
DESCRIPTION:Luni\, 6 decembrie 2021 – Sfântul Ierarh Nicolae\, arhiepiscopul Mirelor Lichiei\, făcătorul de minuni \nÎnaltpreasfințitul Părinte Calinic\, Arhiepiscop al Sucevei și Rădăuților\, va sluji Sfânta Liturghie în Paraclisul Mănăstirii Sfântul Ioan cel Nou. Începând cu ora 16.00\, Înaltpreasfinția sa va săvârși slujba de sfințire a prescurăriei de la Mănăstirea Cămârzani și va oficia slujba Parastasului Preasfințitului Părinte Gherasim Putneanul\, ctitorul așezământului monahal. \nPreasfințitul Părinte Damaschin Dorneanul\, Episcop-Vicar al Arhiepiscopiei Sucevei și Rădăuților\, va sluji Sfânta Liturghie la Mănăstirea Bogdana\, Protopopiatul Rădăuți\, cu prilejul hramului ctitoriei voievodale.
URL:https://www.arhiepiscopiasucevei.ro/evenimente/agenda-ierarhilor-la-sarbatoarea-sfantului-ierarh-nicolae/
CATEGORIES:Agenda Ierarhilor
END:VEVENT
BEGIN:VEVENT
DTSTART;TZID=Europe/Bucharest:20211212T050000
DTEND;TZID=Europe/Bucharest:20211212T130000
DTSTAMP:20260420T164757
CREATED:20211211T115236Z
LAST-MODIFIED:20211211T115408Z
UID:25332-1639285200-1639314000@www.arhiepiscopiasucevei.ro
SUMMARY:Agenda ierarhilor în Duminica a XXVIII-a după Rusalii
DESCRIPTION:Duminică\, 12 decembrie 2021 – Duminica a XXVIII-a după Rusalii (a Sfinților Strămoși – Pilda celor poftiți la cină)  \nÎnaltpreasfințitul Părinte Calinic\, Arhiepiscop al Sucevei și Rădăuților\, va sluji Sfânta Liturghie în Paraclisul Mănăstirii Sfântul Ioan cel Nou. \nPreasfințitul Părinte Damaschin Dorneanul\, Episcop-Vicar al Arhiepiscopiei Sucevei și Rădăuților\, va sluji Sfânta Liturghie la Catedrala Arhiepiscopală din Suceava – Mănăstirea Sfântul Ioan cel Nou.
URL:https://www.arhiepiscopiasucevei.ro/evenimente/agenda-ierarhilor-in-duminica-a-xxviii-a-dupa-rusalii/
CATEGORIES:Agenda Ierarhilor
END:VEVENT
BEGIN:VEVENT
DTSTART;TZID=Europe/Bucharest:20211219T050000
DTEND;TZID=Europe/Bucharest:20211219T130000
DTSTAMP:20260420T164757
CREATED:20211218T171525Z
LAST-MODIFIED:20211218T171620Z
UID:25576-1639890000-1639918800@www.arhiepiscopiasucevei.ro
SUMMARY:Agenda ierarhilor în Duminica dinaintea Nașterii Domnului
DESCRIPTION:Duminică\, 19 decembrie 2021 – Duminica dinaintea Nașterii Domnului (a Sfinților Părinți după trup ai Domnului)  \nÎnaltpreasfințitul Părinte Calinic\, Arhiepiscop al Sucevei și Rădăuților\, va sluji Sfânta Liturghie în Paraclisul Mănăstirii „Sfântul Ioan cel Nou”. \nPreasfințitul Părinte Damaschin Dorneanul\, Episcop-Vicar al Arhiepiscopiei Sucevei și Rădăuților\, va sluji Sfânta Liturghie la Biserica „Sfântul Gheorghe” – Mirăuți din Suceava.
URL:https://www.arhiepiscopiasucevei.ro/evenimente/agenda-ierarhilor-in-agenda-ierarhilor-in-duminica-dinaintea-nasterii-domnului/
CATEGORIES:Agenda Ierarhilor
END:VEVENT
BEGIN:VEVENT
DTSTART;TZID=Europe/Bucharest:20211224T080000
DTEND;TZID=Europe/Bucharest:20211224T170000
DTSTAMP:20260420T164757
CREATED:20211224T183147Z
LAST-MODIFIED:20211224T183147Z
UID:25904-1640332800-1640365200@www.arhiepiscopiasucevei.ro
SUMMARY:Agenda ierarhilor la Slăvitul Praznic al Nașterii Domnului
DESCRIPTION:Sâmbătă\, 25 decembrie 2021 – Praznicul Nașterii Domnului \nÎnaltpreasfințitul Părinte Calinic\, Arhiepiscop al Sucevei și Rădăuților\, va sluji Sfânta Liturghie la Mănăstirea Sfântul Ioan cel Nou\, Catedrala Arhiepiscopală din Suceava. \nPreasfințitul Părinte Damaschin Dorneanul\, Episcop-Vicar al Arhiepiscopiei Sucevei și Rădăuților\, va sluji Sfânta Liturghie la Catedrala „Nașterea Domnului” din Suceava.
URL:https://www.arhiepiscopiasucevei.ro/evenimente/agenda-ierarhilor-la-slavitul-praznic-al-nasterii-domnului/
END:VEVENT
BEGIN:VEVENT
DTSTART;TZID=Europe/Bucharest:20211226T050000
DTEND;TZID=Europe/Bucharest:20211226T130000
DTSTAMP:20260420T164757
CREATED:20211225T153016Z
LAST-MODIFIED:20211225T153016Z
UID:25910-1640494800-1640523600@www.arhiepiscopiasucevei.ro
SUMMARY:Agenda ierarhilor la Sărbătoarea Soborul Maicii Domnului - 2021
DESCRIPTION:Duminică\, 26 decembrie – Soborul Maicii Domnului și Duminica după Nașterea Domnului \nÎnaltpreasfințitul Părinte Calinic\, Arhiepiscop al Sucevei și Rădăuților\, va sluji Sfânta Liturghie în Paraclisul Mănăstirii „Sfântul Ioan cel Nou”. \nPreasfințitul Părinte Damaschin Dorneanul\, Episcop-Vicar al Arhiepiscopiei Sucevei și Rădăuților\, va sluji Sfânta Liturghie la Mănăstirea Sihăstria Putnei.
URL:https://www.arhiepiscopiasucevei.ro/evenimente/agenda-ierarhilor-la-sarbatoarea-soborul-maicii-domnului-2021/
END:VEVENT
BEGIN:VEVENT
DTSTART;TZID=Europe/Bucharest:20211227T050000
DTEND;TZID=Europe/Bucharest:20211227T140000
DTSTAMP:20260420T164757
CREATED:20211226T194009Z
LAST-MODIFIED:20211226T194611Z
UID:25995-1640581200-1640613600@www.arhiepiscopiasucevei.ro
SUMMARY:Agenda ierarhilor la Sărbătoarea Sfântului Ap.\, întâiul Mc. și Arhidiacon Ștefan
DESCRIPTION:Luni\, 27 decembrie – Sfântul Apostol\, întâiul Mucenic și Arhidiacon Ștefan \nÎnaltpreasfințitul Părinte Calinic\, Arhiepiscop al Sucevei și Rădăuților\, va sluji Sfânta Liturghie în Paraclisul Mănăstirii „Sfântul Ioan cel Nou”. \nPreasfințitul Părinte Damaschin Dorneanul\, Episcop-Vicar al Arhiepiscopiei Sucevei și Rădăuților\, va sluji Sfânta Liturghie la Mănăstirea Putna.
URL:https://www.arhiepiscopiasucevei.ro/evenimente/agenda-ierarhilor-la-sarbatoarea-sfantului-ap-intaiul-mc-si-arhidiacon-stefan/
END:VEVENT
END:VCALENDAR