BEGIN:VCALENDAR
VERSION:2.0
PRODID:-//Arhiepiscopia Sucevei și Rădăuților - ECPv5.13.0//NONSGML v1.0//EN
CALSCALE:GREGORIAN
METHOD:PUBLISH
X-WR-CALNAME:Arhiepiscopia Sucevei și Rădăuților
X-ORIGINAL-URL:https://www.arhiepiscopiasucevei.ro
X-WR-CALDESC:Events for Arhiepiscopia Sucevei și Rădăuților
REFRESH-INTERVAL;VALUE=DURATION:PT1H
X-Robots-Tag:noindex
X-PUBLISHED-TTL:PT1H
BEGIN:VTIMEZONE
TZID:Europe/Bucharest
BEGIN:DAYLIGHT
TZOFFSETFROM:+0200
TZOFFSETTO:+0300
TZNAME:EEST
DTSTART:20210328T010000
END:DAYLIGHT
BEGIN:STANDARD
TZOFFSETFROM:+0300
TZOFFSETTO:+0200
TZNAME:EET
DTSTART:20211031T010000
END:STANDARD
END:VTIMEZONE
BEGIN:VEVENT
DTSTART;TZID=Europe/Bucharest:20211107T053000
DTEND;TZID=Europe/Bucharest:20211107T123000
DTSTAMP:20260420T182036
CREATED:20211106T080535Z
LAST-MODIFIED:20211106T080535Z
UID:23862-1636263000-1636288200@www.arhiepiscopiasucevei.ro
SUMMARY:Agenda ierarhilor în Duminica a XXIV-a după Rusalii
DESCRIPTION:Duminică\, 7 noiembrie 2021 – Duminica a XXIV-a după Rusalii (Învierea fiicei lui Iair) \nÎnaltpreasfințitul Părinte Calinic\, Arhiepiscop al Sucevei și Rădăuților\, va participa la Sfânta Liturghie din Paraclisul Mănăstirii Sfântul Ioan cel Nou. \nPreasfințitul Părinte Damaschin Dorneanul\, Episcop-Vicar al Arhiepiscopiei Sucevei și Rădăuților\, va sluji Sfânta Liturghie la Catedrala Arhiepiscopală din Suceava – Mănăstirea Sfântul Ioan cel Nou.
URL:https://www.arhiepiscopiasucevei.ro/evenimente/agenda-ierarhilor-in-duminica-a-xxiv-a-dupa-rusalii/
CATEGORIES:Agenda Ierarhilor
END:VEVENT
BEGIN:VEVENT
DTSTART;TZID=Europe/Bucharest:20211108T053000
DTEND;TZID=Europe/Bucharest:20211108T123000
DTSTAMP:20260420T182036
CREATED:20211108T033050Z
LAST-MODIFIED:20211107T194954Z
UID:23882-1636349400-1636374600@www.arhiepiscopiasucevei.ro
SUMMARY:Agenda ierarhilor la Soborul Sfinților Arhangheli Mihail și Gavriil și al tuturor cereștilor puteri
DESCRIPTION:Luni\, 8 noiembrie 2021 – Soborul Sfinților Arhangheli Mihail și Gavriil și al tuturor cereștilor puteri \nÎnaltpreasfințitul Părinte Calinic\, Arhiepiscop al Sucevei și Rădăuților\, va sluji Sfânta Liturghie în Paraclisul Mănăstirii Sfântul Ioan cel Nou. \nPreasfințitul Părinte Damaschin Dorneanul\, Episcop-Vicar al Arhiepiscopiei Sucevei și Rădăuților\, va sluji Sfânta Liturghie la Parohia “Sfinții Arhangheli Mihail și Gavriil” din Gura Humorului\, Protopopiatul Suceava II\, cu prilejul hramului.
URL:https://www.arhiepiscopiasucevei.ro/evenimente/agenda-ierarhilor-la-soborul-sfintilor-arhangheli-mihail-si-gavriil-si-al-tuturor-cerestilor-puteri/
CATEGORIES:Agenda Ierarhilor
END:VEVENT
BEGIN:VEVENT
DTSTART;TZID=Europe/Bucharest:20211114T083000
DTEND;TZID=Europe/Bucharest:20211114T123000
DTSTAMP:20260420T182036
CREATED:20211113T155814Z
LAST-MODIFIED:20211113T155814Z
UID:24185-1636878600-1636893000@www.arhiepiscopiasucevei.ro
SUMMARY:Agenda ierarhilor în Duminica a XXV-a după Rusalii
DESCRIPTION:Duminică\, 14 noiembrie 2021 – Duminica a XXV-a după Rusalii (Pilda samarineanului milostiv) \nÎnaltpreasfințitul Părinte Calinic\, Arhiepiscop al Sucevei și Rădăuților\, va sluji Sfânta Liturghie la Catedrala Arhiepiscopală din Suceava – Mănăstirea Sfântul Ioan cel Nou.
URL:https://www.arhiepiscopiasucevei.ro/evenimente/agenda-ierarhilor-in-duminica-a-xxv-a-dupa-rusalii/
CATEGORIES:Agenda Ierarhilor
END:VEVENT
BEGIN:VEVENT
DTSTART;TZID=Europe/Bucharest:20211121T080000
DTEND;TZID=Europe/Bucharest:20211121T130000
DTSTAMP:20260420T182036
CREATED:20211119T100010Z
LAST-MODIFIED:20211117T142409Z
UID:24321-1637481600-1637499600@www.arhiepiscopiasucevei.ro
SUMMARY:Agenda ierarhilor la Sărbătoarea „Intrarea în biserică a Maicii Domnului” și Duminica a XXVI-a după Rusalii
DESCRIPTION:Duminică\, 21 noiembrie 2021 – Intrarea în biserică a Maicii Domnului; Duminica a XXVI-a după Rusalii (Pilda bogatului căruia i-a rodit țarina) \nÎnaltpreasfințitul Părinte Calinic\, Arhiepiscop al Sucevei și Rădăuților\, va sluji Sfânta Liturghie la Catedrala Arhiepiscopală din Suceava – Mănăstirea Sfântul Ioan cel Nou. Începând cu ora 16.00\, ierarhul va săvârși Taina Sfântului Maslu și va citi rugăciuni de dezlegare și pentru sănătate. \nPreasfințitul Părinte Damaschin Dorneanul\, Episcop-Vicar al Arhiepiscopiei Sucevei și Rădăuților\, va sluji Sfânta Liturghie la Mănăstirea Intrarea Maicii Domnului în biserică\, Protopopiatul Rădăuți.
URL:https://www.arhiepiscopiasucevei.ro/evenimente/agenda-ierarhilor-la-sarbatoarea-intrarea-in-biserica-a-maicii-domnului-si-duminica-a-xxvi-a-dupa-rusalii/
CATEGORIES:Agenda Ierarhilor
END:VEVENT
BEGIN:VEVENT
DTSTART;TZID=Europe/Bucharest:20211128T050000
DTEND;TZID=Europe/Bucharest:20211128T170000
DTSTAMP:20260420T182036
CREATED:20211127T134102Z
LAST-MODIFIED:20211127T134102Z
UID:24620-1638075600-1638118800@www.arhiepiscopiasucevei.ro
SUMMARY:Agenda ierarhilor în Duminica a XXX-a după Rusalii
DESCRIPTION:Duminică\, 28 noiembrie 2021 – Duminica a XXX-a după Rusalii (Dregătorul bogat – păzirea poruncilor) \nÎnaltpreasfințitul Părinte Calinic\, Arhiepiscop al Sucevei și Rădăuților\, va sluji Sfânta Liturghie în Paraclisul Mănăstirii Sfântul Ioan cel Nou. \nPreasfințitul Părinte Damaschin Dorneanul\, Episcop-Vicar al Arhiepiscopiei Sucevei și Rădăuților\, va sluji Sfânta Liturghie la Mănăstirea Sihăstria Râșcăi\, Protopopiatul Fălticeni..
URL:https://www.arhiepiscopiasucevei.ro/evenimente/agenda-ierarhilor-in-duminica-a-xxx-a-dupa-rusalii/
CATEGORIES:Agenda Ierarhilor
END:VEVENT
BEGIN:VEVENT
DTSTART;TZID=Europe/Bucharest:20211130T050000
DTEND;TZID=Europe/Bucharest:20211130T130000
DTSTAMP:20260420T182036
CREATED:20211129T115809Z
LAST-MODIFIED:20211129T120144Z
UID:24674-1638248400-1638277200@www.arhiepiscopiasucevei.ro
SUMMARY:Agenda ierarhilor la Sărbătoarea Sfântului Apostol Andrei
DESCRIPTION:Marți\, 30 noiembrie 2021 – Sărbătoarea Sfântului Apostol Andrei\, cel Întâi Chemat\, Ocrotitorul României \nÎnaltpreasfințitul Părinte Calinic\, Arhiepiscop al Sucevei și Rădăuților\, va sluji Sfânta Liturghie la Paraclisul Mănăstirii Sfântul Ioan cel Nou. \nPreasfințitul Părinte Damaschin Dorneanul\, Episcop-Vicar al Arhiepiscopiei Sucevei și Rădăuților\, va sluji Sfânta Liturghie la Așezământul „Sfântul Apostol Andrei” din Municipiul Fălticeni.
URL:https://www.arhiepiscopiasucevei.ro/evenimente/agenda-ierarhilor-la-sarbatoarea-sfantului-apostol-andrei/
CATEGORIES:Agenda Ierarhilor
END:VEVENT
END:VCALENDAR