BEGIN:VCALENDAR
VERSION:2.0
PRODID:-//Arhiepiscopia Sucevei și Rădăuților - ECPv5.13.0//NONSGML v1.0//EN
CALSCALE:GREGORIAN
METHOD:PUBLISH
X-WR-CALNAME:Arhiepiscopia Sucevei și Rădăuților
X-ORIGINAL-URL:https://www.arhiepiscopiasucevei.ro
X-WR-CALDESC:Events for Arhiepiscopia Sucevei și Rădăuților
REFRESH-INTERVAL;VALUE=DURATION:PT1H
X-Robots-Tag:noindex
X-PUBLISHED-TTL:PT1H
BEGIN:VTIMEZONE
TZID:Europe/Bucharest
BEGIN:DAYLIGHT
TZOFFSETFROM:+0200
TZOFFSETTO:+0300
TZNAME:EEST
DTSTART:20210328T010000
END:DAYLIGHT
BEGIN:STANDARD
TZOFFSETFROM:+0300
TZOFFSETTO:+0200
TZNAME:EET
DTSTART:20211031T010000
END:STANDARD
END:VTIMEZONE
BEGIN:VEVENT
DTSTART;TZID=Europe/Bucharest:20211001T080000
DTEND;TZID=Europe/Bucharest:20211001T140000
DTSTAMP:20260420T200119
CREATED:20211001T170608Z
LAST-MODIFIED:20211001T170608Z
UID:22286-1633075200-1633096800@www.arhiepiscopiasucevei.ro
SUMMARY:Agenda ierarhilor la Sărbătoarea Acoperământului Maicii Domnului
DESCRIPTION:Vineri\, 1 octombrie 2021 – Sărbătoarea Acoperământului Maicii Domnului \nPreasfințitul Părinte Damaschin Dorneanul\, Episcop-Vicar al Arhiepiscopiei Sucevei și Rădăuților\, va sluji Sfânta Liturghie la Schitul „Maica Domnului Grabnic Ascultătoare” din localitatea Vicovu de Jos\, Protopopiatul Rădăuți\, cu prilejul hramului.
URL:https://www.arhiepiscopiasucevei.ro/evenimente/agenda-ierarhilor-la-sarbatoarea-acoperamantului-maicii-domnului/
END:VEVENT
BEGIN:VEVENT
DTSTART;TZID=Europe/Bucharest:20211003T080000
DTEND;TZID=Europe/Bucharest:20211003T120000
DTSTAMP:20260420T200119
CREATED:20211002T063105Z
LAST-MODIFIED:20211002T063105Z
UID:22330-1633248000-1633262400@www.arhiepiscopiasucevei.ro
SUMMARY:Agenda ierarhilor în Duminica a XIX-a după Rusalii
DESCRIPTION:Duminică\, 3 octombrie 2021 – Duminica a XIX-a după Rusalii (Predica de pe munte – iubirea vrășmașilor) \nPreasfințitul Părinte Damaschin Dorneanul\, Episcop-Vicar al Arhiepiscopiei Sucevei și Rădăuților\, va sluji Sfânta Liturghie la Parohia Ortodoxă „Sfinții Arhangheli” Mihoveni\, Protopopiatul Suceava I.
URL:https://www.arhiepiscopiasucevei.ro/evenimente/agenda-ierarhilor-in-duminica-a-xix-a-dupa-rusalii/
CATEGORIES:Agenda Ierarhilor
END:VEVENT
BEGIN:VEVENT
DTSTART;TZID=Europe/Bucharest:20211014T050000
DTEND;TZID=Europe/Bucharest:20211014T130000
DTSTAMP:20260420T200119
CREATED:20211013T200359Z
LAST-MODIFIED:20211013T201653Z
UID:22834-1634187600-1634216400@www.arhiepiscopiasucevei.ro
SUMMARY:Agenda ierarhilor la Sărbătoarea Sfintei Cuvioase Parascheva
DESCRIPTION:Joi\, 14 octombrie 2021 – Sărbătoarea Sfintei Cuvioase Parascheva \nÎnaltpreasfințitul Părinte Calinic\, Arhiepiscop al Sucevei și Rădăuților\, va participa la Sfânta Liturghie din Paraclisul Mănăstirii Sfântul Ioan cel Nou. \nPreasfințitul Părinte Damaschin Dorneanul\, Episcop-Vicar al Arhiepiscopiei Sucevei și Rădăuților\, va sluji Sfânta Liturghie la Catedrala Mitropolitană din Iași\, cu prilejul hramului.
URL:https://www.arhiepiscopiasucevei.ro/evenimente/agenda-ierarhilor-la-sarbatoarea-sfintei-cuvioase-parascheva/
END:VEVENT
BEGIN:VEVENT
DTSTART;TZID=Europe/Bucharest:20211017T080000
DTEND;TZID=Europe/Bucharest:20211017T123000
DTSTAMP:20260420T200119
CREATED:20211016T081547Z
LAST-MODIFIED:20211016T081606Z
UID:22894-1634457600-1634473800@www.arhiepiscopiasucevei.ro
SUMMARY:Agenda ierarhilor în Duminica a XXI-a după Rusalii
DESCRIPTION:Duminică\, 17 octombrie 2021 – Duminica a XXI-a după Rusalii (a Sfinților Părinți de la Sinodul al VII-lea Ecumenic) \nÎnaltpreasfințitul Părinte Calinic\, Arhiepiscop al Sucevei și Rădăuților\, va participa la Sfânta Liturghie din Paraclisul Mănăstirii Sfântul Ioan cel Nou. \nPreasfințitul Părinte Damaschin Dorneanul\, Episcop-Vicar al Arhiepiscopiei Sucevei și Rădăuților\, va sluji Sfânta Liturghie în Parohia „Sfânta Cuvioasă Parascheva” Marginea\, Protopopiatul Rădăuți\, cu prilejul resfințirii bisericii.
URL:https://www.arhiepiscopiasucevei.ro/evenimente/agenda-ierarhilor-in-duminica-a-xxi-a-dupa-rusalii/
CATEGORIES:Agenda Ierarhilor
END:VEVENT
BEGIN:VEVENT
DTSTART;TZID=Europe/Bucharest:20211024T053000
DTEND;TZID=Europe/Bucharest:20211024T130000
DTSTAMP:20260420T200119
CREATED:20211024T023018Z
LAST-MODIFIED:20211023T091547Z
UID:23315-1635053400-1635080400@www.arhiepiscopiasucevei.ro
SUMMARY:Agenda ierarhilor în Duminica a XXIII-a după Rusalii
DESCRIPTION:Duminică\, 24 octombrie 2021 – Duminica a XXIII-a după Rusalii (Vindecarea demonizatului din ținutul Gherghesenilor) \nÎnaltpreasfințitul Părinte Calinic\, Arhiepiscop al Sucevei și Rădăuților\, va participa la Sfânta Liturghie din Paraclisul Mănăstirii Sfântul Ioan cel Nou. \nPreasfințitul Părinte Damaschin Dorneanul\, Episcop-Vicar al Arhiepiscopiei Sucevei și Rădăuților\, va sluji Sfânta Liturghie în Parohia „Sf. M. Mc. Dimitrie” Deia\, Protopopiatul Câmpulung\, cu prilejul resfințirii bisericii.
URL:https://www.arhiepiscopiasucevei.ro/evenimente/agenda-ierarhilor-in-duminica-a-xxiii-a-dupa-rusalii/
END:VEVENT
BEGIN:VEVENT
DTSTART;TZID=Europe/Bucharest:20211026T080000
DTEND;TZID=Europe/Bucharest:20211026T170000
DTSTAMP:20260420T200119
CREATED:20211026T041744Z
LAST-MODIFIED:20211026T041744Z
UID:23422-1635235200-1635267600@www.arhiepiscopiasucevei.ro
SUMMARY:Agenda ierarhilor la Sărbătoarea Sfântul Mare Mucenic Dimitrie
DESCRIPTION:Marți\, 26 octombrie 2021 – Sărbătoarea Sfântului Mare Mucenic Dimitrie\, izvorâtorul de mir \nÎnaltpreasfințitul Părinte Calinic\, Arhiepiscop al Sucevei și Rădăuților\, va participa la Sfânta Liturghie din Paraclisul Mănăstirii Sfântul Ioan cel Nou. \nPreasfințitul Părinte Damaschin Dorneanul\, Episcop-Vicar al Arhiepiscopiei Sucevei și Rădăuților\, va sluji Sfânta Liturghie în Parohia „Sfântul Dimitrie” din Suceava\, cu prilejul hramului.
URL:https://www.arhiepiscopiasucevei.ro/evenimente/agenda-ierarhilor-la-sarbatoarea-sfantul-mare-mucenic-dimitrie/
CATEGORIES:Agenda Ierarhilor
END:VEVENT
BEGIN:VEVENT
DTSTART;TZID=Europe/Bucharest:20211027T080000
DTEND;TZID=Europe/Bucharest:20211027T130000
DTSTAMP:20260420T200119
CREATED:20211027T050040Z
LAST-MODIFIED:20211027T050139Z
UID:23494-1635321600-1635339600@www.arhiepiscopiasucevei.ro
SUMMARY:Agenda ierarhilor la Sărbătoarea Sfântului Cuvios Dimitrie cel Nou
DESCRIPTION:Miercuri\, 27 octombrie 2021 – Sărbătoarea Sfântului Cuvios Dimitrie cel Nou\, Ocrotitorul Bucureștilor \nÎnaltpreasfințitul Părinte Calinic\, Arhiepiscop al Sucevei și Rădăuților\, va participa la Sfânta Liturghie din Paraclisul Mănăstirii Sfântul Ioan cel Nou. \nPreasfințitul Părinte Damaschin Dorneanul\, Episcop-Vicar al Arhiepiscopiei Sucevei și Rădăuților\, va sluji Sfânta Liturghie la Catedrala Arhiepiscopală din Suceava – Mănăstirea Sfântul Ioan cel Nou.
URL:https://www.arhiepiscopiasucevei.ro/evenimente/agenda-ierarhilor-la-sarbatoarea-sfantul-mare-mucenic-dimitrie-cel-nou/
CATEGORIES:Agenda Ierarhilor
END:VEVENT
BEGIN:VEVENT
DTSTART;TZID=Europe/Bucharest:20211031T053000
DTEND;TZID=Europe/Bucharest:20211031T130000
DTSTAMP:20260420T200119
CREATED:20211030T112804Z
LAST-MODIFIED:20211030T112804Z
UID:23691-1635658200-1635685200@www.arhiepiscopiasucevei.ro
SUMMARY:Agenda ierarhilor în Duminica a XXII-a după Rusalii
DESCRIPTION:Duminică\, 31 octombrie 2021 – Duminica a XXII-a după Rusalii (Bogatul nemilostiv și săracul Lazăr) \nPreasfințitul Părinte Damaschin Dorneanul\, Episcop-Vicar al Arhiepiscopiei Sucevei și Rădăuților\, va sluji Sfânta Liturghie în Parohia „Adormirea Maicii Domnului” Rotunda\, Protopopiatul Fălticeni.
URL:https://www.arhiepiscopiasucevei.ro/evenimente/agenda-ierarhilor-in-duminica-a-xxii-a-dupa-rusalii/
CATEGORIES:Agenda Ierarhilor
END:VEVENT
END:VCALENDAR