BEGIN:VCALENDAR
VERSION:2.0
PRODID:-//Arhiepiscopia Sucevei și Rădăuților - ECPv5.13.0//NONSGML v1.0//EN
CALSCALE:GREGORIAN
METHOD:PUBLISH
X-WR-CALNAME:Arhiepiscopia Sucevei și Rădăuților
X-ORIGINAL-URL:https://www.arhiepiscopiasucevei.ro
X-WR-CALDESC:Events for Arhiepiscopia Sucevei și Rădăuților
REFRESH-INTERVAL;VALUE=DURATION:PT1H
X-Robots-Tag:noindex
X-PUBLISHED-TTL:PT1H
BEGIN:VTIMEZONE
TZID:Europe/Bucharest
BEGIN:DAYLIGHT
TZOFFSETFROM:+0200
TZOFFSETTO:+0300
TZNAME:EEST
DTSTART:20210328T010000
END:DAYLIGHT
BEGIN:STANDARD
TZOFFSETFROM:+0300
TZOFFSETTO:+0200
TZNAME:EET
DTSTART:20211031T010000
END:STANDARD
END:VTIMEZONE
BEGIN:VEVENT
DTSTART;TZID=Europe/Bucharest:20210905T080000
DTEND;TZID=Europe/Bucharest:20210905T123000
DTSTAMP:20260420T214200
CREATED:20210904T104542Z
LAST-MODIFIED:20210904T154213Z
UID:21241-1630828800-1630845000@www.arhiepiscopiasucevei.ro
SUMMARY:Agenda ierarhilor în Duminica a XI-a după Rusalii
DESCRIPTION:Duminică\, 5 septembrie 2021 – Duminica a XI-a după Rusalii (Pilda datornicului nemilostiv) \nPreasfințitul Părinte Damaschin Dorneanul\, Episcop-Vicar al Arhiepiscopiei Sucevei și Rădăuților\, va sluji Sfânta Liturghie la Biserica „Sfântul Ierarh Nicolae” din Berchișești\, Protopopiat Suceava II\, împreună cu Înaltpreasfințitul Părinte Teodosie\, Arhiepiscopul Tomisului\, cu prilejul resfințirii.
URL:https://www.arhiepiscopiasucevei.ro/evenimente/agenda-ierarhilor-in-duminica-a-xi-a-dupa-rusalii/
CATEGORIES:Agenda Ierarhilor
END:VEVENT
BEGIN:VEVENT
DTSTART;TZID=Europe/Bucharest:20210908T080000
DTEND;TZID=Europe/Bucharest:20210908T123000
DTSTAMP:20260420T214200
CREATED:20210907T074453Z
LAST-MODIFIED:20210907T074453Z
UID:21494-1631088000-1631104200@www.arhiepiscopiasucevei.ro
SUMMARY:Agenda ierarhilor la Sărbătoarea Nașterii Maicii Domnului
DESCRIPTION:Miercuri\, 8 septembrie 2021 – Sărbătoarea Nașterii Maicii Domnului \nPreasfințitul Părinte Damaschin Dorneanul\, Episcop-Vicar al Arhiepiscopiei Sucevei și Rădăuților\, va sluji Sfânta Liturghie la Mănăstirea Cămârzani\, cu prilejul hramului
URL:https://www.arhiepiscopiasucevei.ro/evenimente/agenda-ierarhilor-la-sarbatoarea-nasterii-maicii-domnului/
CATEGORIES:Agenda Ierarhilor
END:VEVENT
BEGIN:VEVENT
DTSTART;TZID=Europe/Bucharest:20210912T080000
DTEND;TZID=Europe/Bucharest:20210912T120000
DTSTAMP:20260420T214200
CREATED:20210911T190952Z
LAST-MODIFIED:20210911T190952Z
UID:21598-1631433600-1631448000@www.arhiepiscopiasucevei.ro
SUMMARY:Agenda ierarhilor în Duminica dinaintea Înălțării Sfinte Cruci
DESCRIPTION:Duminică\, 12 septembrie 2021 – Duminica dinaintea Înălțării Sfinte Cruci (Convorbirea lui Iisus cu Nicodim) \nPreasfințitul Părinte Damaschin Dorneanul\, Episcop-Vicar al Arhiepiscopiei Sucevei și Rădăuților\, va sluji Sfânta Liturghie la Parohia Dumbrăveni IV\, Protopopiatul Suceava I.
URL:https://www.arhiepiscopiasucevei.ro/evenimente/agenda-ierarhilor-in-duminica-dinaintea-inaltarii-sfinte-cruci/
CATEGORIES:Agenda Ierarhilor
END:VEVENT
BEGIN:VEVENT
DTSTART;TZID=Europe/Bucharest:20210914T080000
DTEND;TZID=Europe/Bucharest:20210914T123000
DTSTAMP:20260420T214200
CREATED:20210913T171524Z
LAST-MODIFIED:20210913T172847Z
UID:21631-1631606400-1631622600@www.arhiepiscopiasucevei.ro
SUMMARY:Agenda ierarhilor la Sărbătoarea Înălțării Sfintei Cruci
DESCRIPTION:Marți\, 14 septembrie 2021 – Sărbătoarea Înălțării Sfintei Cruci \nPreasfințitul Părinte Damaschin Dorneanul\, Episcop-Vicar al Arhiepiscopiei Sucevei și Rădăuților\, va sluji Sfânta Liturghie la Mănăstirea Pătrăuți\, cu prilejul hramului.
URL:https://www.arhiepiscopiasucevei.ro/evenimente/agenda-ierarhilor-la-sarbatoarea-inaltarii-sfintei-cruci/
CATEGORIES:Agenda Ierarhilor
END:VEVENT
BEGIN:VEVENT
DTSTART;TZID=Europe/Bucharest:20210919T080000
DTEND;TZID=Europe/Bucharest:20210919T120000
DTSTAMP:20260420T214200
CREATED:20210918T182348Z
LAST-MODIFIED:20210918T182348Z
UID:21856-1632038400-1632052800@www.arhiepiscopiasucevei.ro
SUMMARY:Agenda ierarhilor în Duminica după Înălțarea Sfintei Cruci
DESCRIPTION:Duminică\, 19 septembrie 2021 – Duminica după Înălțarea Sfintei Cruci (Luarea Crucii și urmarea lui Hristos) \nPreasfințitul Părinte Damaschin Dorneanul\, Episcop-Vicar al Arhiepiscopiei Sucevei și Rădăuților\, va sluji Sfânta Liturghie la Parohia Moara.
URL:https://www.arhiepiscopiasucevei.ro/evenimente/agenda-ierarhilor-in-duminica-dupa-inaltarea-sfintei-cruci/
CATEGORIES:Agenda Ierarhilor
END:VEVENT
BEGIN:VEVENT
DTSTART;TZID=Europe/Bucharest:20210926T080000
DTEND;TZID=Europe/Bucharest:20210926T130000
DTSTAMP:20260420T214200
CREATED:20210925T064118Z
LAST-MODIFIED:20210925T064118Z
UID:22030-1632643200-1632661200@www.arhiepiscopiasucevei.ro
SUMMARY:Agenda ierarhilor în Duminica a XVIII-a după Rusalii
DESCRIPTION:Duminică\, 26 septembrie 2021 – Duminica a XVIII-a după Rusalii (Pescuirea minunată) \nPreasfințitul Părinte Damaschin Dorneanul\, Episcop-Vicar al Arhiepiscopiei Sucevei și Rădăuților\, va sluji Sfânta Liturghie la Parohia Remezău-Vicovu de Jos\, Protopopiatul Rădăuți.
URL:https://www.arhiepiscopiasucevei.ro/evenimente/agenda-ierarhilor-in-duminica-a-xviii-a-dupa-rusalii/
CATEGORIES:Agenda Ierarhilor
END:VEVENT
END:VCALENDAR