BEGIN:VCALENDAR
VERSION:2.0
PRODID:-//Arhiepiscopia Sucevei și Rădăuților - ECPv5.13.0//NONSGML v1.0//EN
CALSCALE:GREGORIAN
METHOD:PUBLISH
X-WR-CALNAME:Arhiepiscopia Sucevei și Rădăuților
X-ORIGINAL-URL:https://www.arhiepiscopiasucevei.ro
X-WR-CALDESC:Events for Arhiepiscopia Sucevei și Rădăuților
REFRESH-INTERVAL;VALUE=DURATION:PT1H
X-Robots-Tag:noindex
X-PUBLISHED-TTL:PT1H
BEGIN:VTIMEZONE
TZID:Europe/Bucharest
BEGIN:DAYLIGHT
TZOFFSETFROM:+0200
TZOFFSETTO:+0300
TZNAME:EEST
DTSTART:20210328T010000
END:DAYLIGHT
BEGIN:STANDARD
TZOFFSETFROM:+0300
TZOFFSETTO:+0200
TZNAME:EET
DTSTART:20211031T010000
END:STANDARD
END:VTIMEZONE
BEGIN:VEVENT
DTSTART;TZID=Europe/Bucharest:20210606T080000
DTEND;TZID=Europe/Bucharest:20210606T130000
DTSTAMP:20260421T024835
CREATED:20210605T074158Z
LAST-MODIFIED:20210605T074158Z
UID:16381-1622966400-1622984400@www.arhiepiscopiasucevei.ro
SUMMARY:Agenda ierarhilor în Duminica a VI-a după Paști
DESCRIPTION:Duminică\, 6 iunie 2021 – Duminica a VI-a după Paști (Vindecarea orbului din naștere) \nÎnaltpreasfințitul Părinte Calinic\, Arhiepiscop al Sucevei și Rădăuților\, va sluji Sfânta Liturghie în Parohia Cracău-Negru (jud. Neamț)\, împreună cu Înaltpreasfințitul Părinte Teofan\, Mitropolitul Moldovei și Bucovinei\, Înaltpreasfințitul Părinte Calinic\, Arhiepiscop al Argeșului și Muscelului\, Înaltpreasfințitul Părinte Ioachim\, Arhiepiscop al Romanului și Bacăului\, Preasfințitul Părinte Ignatie\, Episcopul Hușilor\, cu ocazia resfințirii bisericii. \nPreasfințitul Părinte Damaschin Dorneanul\, Episcop-Vicar al Arhiepiscopiei Sucevei și Rădăuților\, va sluji Sfânta Liturghie în Parohia Florinta\, Protopopiatul Suceava II\, cu ocazia resfințirii bisericii.
URL:https://www.arhiepiscopiasucevei.ro/evenimente/agenda-ierarhilor-in-duminica-a-vi-a-dupa-pasti/
CATEGORIES:Agenda Ierarhilor
END:VEVENT
BEGIN:VEVENT
DTSTART;TZID=Europe/Bucharest:20210609T080000
DTEND;TZID=Europe/Bucharest:20210610T170000
DTSTAMP:20260421T024835
CREATED:20210609T060032Z
LAST-MODIFIED:20210609T080103Z
UID:16552-1623225600-1623344400@www.arhiepiscopiasucevei.ro
SUMMARY:Agenda ierarhilor la Praznicul „Înălțarea Domnului”
DESCRIPTION:Joi\, 10 iunie 2021 – Înălțarea Domnului (Ziua Eroilor) \nÎnaltpreasfințitul Părinte Calinic\, Arhiepiscop al Sucevei și Rădăuților\, va sluji Sfânta Liturghie la Mănăstirea Sfântul Ioan cel Nou\, Catedrala Arhiepiscopală din Suceava. \nPreasfințitul Părinte Damaschin Dorneanul\, Episcop-Vicar al Arhiepiscopiei Sucevei și Rădăuților\, va sluji la Mănăstirea Neamț\, cu ocazia hramului.
URL:https://www.arhiepiscopiasucevei.ro/evenimente/agenda-ierarhilor-la-praznicul-inaltarea-domnului/
END:VEVENT
BEGIN:VEVENT
DTSTART;TZID=Europe/Bucharest:20210613T053000
DTEND;TZID=Europe/Bucharest:20210613T130000
DTSTAMP:20260421T024835
CREATED:20210612T060003Z
LAST-MODIFIED:20210612T060240Z
UID:16881-1623562200-1623589200@www.arhiepiscopiasucevei.ro
SUMMARY:Agenda ierarhilor în Duminica a VII-a după Paști
DESCRIPTION:Duminică\, 13 iunie 2021 – Duminica a VII-a după Paști (a Sf. Părinți de la Sinodul I Ecumenic) \nÎnaltpreasfințitul Părinte Calinic\, Arhiepiscop al Sucevei și Rădăuților\, va sluji Sfânta Liturghie în Paraclisul Mănăstirii Sfântul Ioan cel Nou. După încheierea acesteia\, va merge în localitatea Nisipitu\, Protopopiatul Rădăuți\, pentru a sfinți locul noii biserici. \nPreasfințitul Părinte Damaschin Dorneanul\, Episcop-Vicar al Arhiepiscopiei Sucevei și Rădăuților\, va sluji Sfânta Liturghie la Catedrala Mitropolitană din Iași.
URL:https://www.arhiepiscopiasucevei.ro/evenimente/agenda-ierarhilor-in-duminica-a-vii-a-dupa-pasti/
CATEGORIES:Agenda Ierarhilor
END:VEVENT
BEGIN:VEVENT
DTSTART;TZID=Europe/Bucharest:20210620T083000
DTEND;TZID=Europe/Bucharest:20210620T130000
DTSTAMP:20260421T024835
CREATED:20210619T143115Z
LAST-MODIFIED:20210619T143508Z
UID:17400-1624177800-1624194000@www.arhiepiscopiasucevei.ro
SUMMARY:Agenda ierarhilor la Praznicul Pogorârii Sfântului Duh
DESCRIPTION:Duminică\, 20 iunie 2021 – Pogorârea Sfântului Duh (Cincizecimea sau Rusaliile) \nÎnaltpreasfințitul Părinte Calinic\, Arhiepiscop al Sucevei și Rădăuților\, va sluji Sfânta Liturghie la Mănăstirea Sfântul Ioan cel Nou\, Catedrala Arhiepiscopală din Suceava. \nPreasfințitul Părinte Damaschin Dorneanul\, Episcop-Vicar al Arhiepiscopiei Sucevei și Rădăuților\, va sluji Sfânta Liturghie la Mănăstirea Dragomirna.
URL:https://www.arhiepiscopiasucevei.ro/evenimente/agenda-ierarhilor-la-praznicul-pogorarii-sfantului-duh/
CATEGORIES:Agenda Ierarhilor
END:VEVENT
BEGIN:VEVENT
DTSTART;TZID=Europe/Bucharest:20210621T050000
DTEND;TZID=Europe/Bucharest:20210621T130000
DTSTAMP:20260421T024835
CREATED:20210620T160226Z
LAST-MODIFIED:20210722T180949Z
UID:17426-1624251600-1624280400@www.arhiepiscopiasucevei.ro
SUMMARY:Agenda ierarhilor la Sărbătoarea Sfintei Treimi
DESCRIPTION:Luni\, 21 iunie 2021 – Sărbătoarea Sfintei Treimi \nÎnaltpreasfințitul Părinte Calinic\, Arhiepiscop al Sucevei și Rădăuților\, va sluji Sfânta Liturghie în Paraclisul Mănăstirii Sfântul Ioan cel Nou. \nPreasfințitul Părinte Damaschin Dorneanul\, Episcop-Vicar al Arhiepiscopiei Sucevei și Rădăuților\, va sluji Sfânta Liturghie la Parohia Burdujeni sat.
URL:https://www.arhiepiscopiasucevei.ro/evenimente/agenda-ierarhilor-la-sarbatoarea-sfintei-treimi/
CATEGORIES:Agenda Ierarhilor
END:VEVENT
BEGIN:VEVENT
DTSTART;TZID=Europe/Bucharest:20210627T083000
DTEND;TZID=Europe/Bucharest:20210627T190000
DTSTAMP:20260421T024835
CREATED:20210626T071210Z
LAST-MODIFIED:20210626T071210Z
UID:17638-1624782600-1624820400@www.arhiepiscopiasucevei.ro
SUMMARY:Agenda ierarhilor în Duminica întâi după Rusalii
DESCRIPTION:Duminică\, 27 iunie 2021 – Duminica întâi după Rusalii (a Tuturor Sfinților) \nÎnaltpreasfințitul Părinte Calinic\, Arhiepiscop al Sucevei și Rădăuților\, va săvârși Taina Sfântului Maslu la Mănăstirea Sfântul Ioan cel Nou\, Catedrala Arhiepiscopală din Suceava\, de la ora 17:00. \nPreasfințitul Părinte Damaschin Dorneanul\, Episcop-Vicar al Arhiepiscopiei Sucevei și Rădăuților\, va sluji Sfânta Liturghie la Mănăstirea Humor.
URL:https://www.arhiepiscopiasucevei.ro/evenimente/agenda-ierarhilor-in-duminica-intai-dupa-rusalii/
CATEGORIES:Agenda Ierarhilor
END:VEVENT
BEGIN:VEVENT
DTSTART;TZID=Europe/Bucharest:20210629T080000
DTEND;TZID=Europe/Bucharest:20210629T130000
DTSTAMP:20260421T024835
CREATED:20210628T183928Z
LAST-MODIFIED:20210628T183941Z
UID:17791-1624953600-1624971600@www.arhiepiscopiasucevei.ro
SUMMARY:Agenda ierarhilor la Sărbătoarea Sfinților Apostoli Petru și Pavel
DESCRIPTION:Marți\, 29 iunie 2021 – Sărbătoarea Sfinților Apostoli Petru și Pavel \nÎnaltpreasfințitul Părinte Calinic\, Arhiepiscop al Sucevei și Rădăuților\, va sluji Sfânta Liturghie la Mănăstirea Solca\, cu prilejul hramului. \nPreasfințitul Părinte Damaschin Dorneanul\, Episcop-Vicar al Arhiepiscopiei Sucevei și Rădăuților\, va sluji Sfânta Liturghie la Catedrala Episcopală din Huși.
URL:https://www.arhiepiscopiasucevei.ro/evenimente/agenda-ierarhilor-la-sarbatoarea-sfintilor-apostoli-petru-si-pavel/
CATEGORIES:Agenda Ierarhilor
END:VEVENT
END:VCALENDAR