BEGIN:VCALENDAR
VERSION:2.0
PRODID:-//Arhiepiscopia Sucevei și Rădăuților - ECPv5.13.0//NONSGML v1.0//EN
CALSCALE:GREGORIAN
METHOD:PUBLISH
X-WR-CALNAME:Arhiepiscopia Sucevei și Rădăuților
X-ORIGINAL-URL:https://www.arhiepiscopiasucevei.ro
X-WR-CALDESC:Events for Arhiepiscopia Sucevei și Rădăuților
REFRESH-INTERVAL;VALUE=DURATION:PT1H
X-Robots-Tag:noindex
X-PUBLISHED-TTL:PT1H
BEGIN:VTIMEZONE
TZID:Europe/Bucharest
BEGIN:DAYLIGHT
TZOFFSETFROM:+0200
TZOFFSETTO:+0300
TZNAME:EEST
DTSTART:20230326T010000
END:DAYLIGHT
BEGIN:STANDARD
TZOFFSETFROM:+0300
TZOFFSETTO:+0200
TZNAME:EET
DTSTART:20231029T010000
END:STANDARD
END:VTIMEZONE
BEGIN:VEVENT
DTSTART;TZID=Europe/Bucharest:20230507T080000
DTEND;TZID=Europe/Bucharest:20230507T113000
DTSTAMP:20260419T150028
CREATED:20230506T173026Z
LAST-MODIFIED:20230506T173045Z
UID:54857-1683446400-1683459000@www.arhiepiscopiasucevei.ro
SUMMARY:Agenda ierarhilor în Duminica a IV-a după Paști (Vindecarea slăbănogului de la Vitezda)
DESCRIPTION:Duminică\, 7 mai 2023 – Duminica a IV-a după Paști (Vindecarea slăbănogului de la Vitezda)) \nÎnaltpreasfințitul Părinte Calinic\, Arhiepiscop al Sucevei și Rădăuților\, va sluji Sfânta Liturghie la Mănăstirea „Sfântul Ioan cel Nou”\, Catedrala Arhiepiscopală din Suceava.
URL:https://www.arhiepiscopiasucevei.ro/evenimente/agenda-ierarhilor-in-duminica-a-iv-a-dupa-pasti-vindecarea-slabanogului-de-la-vitezda/
CATEGORIES:Agenda Ierarhilor
END:VEVENT
END:VCALENDAR