BEGIN:VCALENDAR
VERSION:2.0
PRODID:-//Arhiepiscopia Sucevei și Rădăuților - ECPv5.13.0//NONSGML v1.0//EN
CALSCALE:GREGORIAN
METHOD:PUBLISH
X-WR-CALNAME:Arhiepiscopia Sucevei și Rădăuților
X-ORIGINAL-URL:https://www.arhiepiscopiasucevei.ro
X-WR-CALDESC:Events for Arhiepiscopia Sucevei și Rădăuților
REFRESH-INTERVAL;VALUE=DURATION:PT1H
X-Robots-Tag:noindex
X-PUBLISHED-TTL:PT1H
BEGIN:VTIMEZONE
TZID:Europe/Bucharest
BEGIN:DAYLIGHT
TZOFFSETFROM:+0200
TZOFFSETTO:+0300
TZNAME:EEST
DTSTART:20230326T010000
END:DAYLIGHT
BEGIN:STANDARD
TZOFFSETFROM:+0300
TZOFFSETTO:+0200
TZNAME:EET
DTSTART:20231029T010000
END:STANDARD
END:VTIMEZONE
BEGIN:VEVENT
DTSTART;TZID=Europe/Bucharest:20230226T080000
DTEND;TZID=Europe/Bucharest:20230226T120000
DTSTAMP:20260419T193147
CREATED:20230225T103352Z
LAST-MODIFIED:20230225T103352Z
UID:50350-1677398400-1677412800@www.arhiepiscopiasucevei.ro
SUMMARY:Agenda ierarhilor în Duminica Izgonirii lui Adam din Rai (a lăsatului sec de brânză)
DESCRIPTION:Duminică\, 26 februarie 2023 – Duminica Izgonirii lui Adam din Rai (a lăsatului sec de brânză) \nÎnaltpreasfințitul Părinte Calinic\, Arhiepiscop al Sucevei și Rădăuților\, va sluji Sfânta Liturghie la Mănăstirea „Sfântul Ioan cel Nou de la Suceava”. \nPreasfințitul Părinte Damaschin Dorneanul\, Episcop-Vicar al Arhiepiscopiei Sucevei și Rădăuților\, va sluji Sfânta Liturghie la Centrul Cultural Catehetic „Sfântul Nicolae”\, din cadrul Colegiului Național „Nicu Gane”\, Fălticeni.
URL:https://www.arhiepiscopiasucevei.ro/evenimente/agenda-ierarhilor-in-duminica-izgonirii-lui-adam-din-rai-a-lasatului-sec-de-branza/
END:VEVENT
END:VCALENDAR