BEGIN:VCALENDAR
VERSION:2.0
PRODID:-//Arhiepiscopia Sucevei și Rădăuților - ECPv5.13.0//NONSGML v1.0//EN
CALSCALE:GREGORIAN
METHOD:PUBLISH
X-WR-CALNAME:Arhiepiscopia Sucevei și Rădăuților
X-ORIGINAL-URL:https://www.arhiepiscopiasucevei.ro
X-WR-CALDESC:Events for Arhiepiscopia Sucevei și Rădăuților
REFRESH-INTERVAL;VALUE=DURATION:PT1H
X-Robots-Tag:noindex
X-PUBLISHED-TTL:PT1H
BEGIN:VTIMEZONE
TZID:Europe/Bucharest
BEGIN:DAYLIGHT
TZOFFSETFROM:+0200
TZOFFSETTO:+0300
TZNAME:EEST
DTSTART:20230326T010000
END:DAYLIGHT
BEGIN:STANDARD
TZOFFSETFROM:+0300
TZOFFSETTO:+0200
TZNAME:EET
DTSTART:20231029T010000
END:STANDARD
END:VTIMEZONE
BEGIN:VEVENT
DTSTART;TZID=Europe/Bucharest:20230106T080000
DTEND;TZID=Europe/Bucharest:20230106T130000
DTSTAMP:20260419T210408
CREATED:20230105T102334Z
LAST-MODIFIED:20230105T105257Z
UID:47124-1672992000-1673010000@www.arhiepiscopiasucevei.ro
SUMMARY:Agenda ierarhilor la Praznicul Botezului Domnului - 2023
DESCRIPTION:Joi\, 6 ianuarie 2023 – Praznicul Botezul Domnului \nÎnaltpreasfințitul Părinte Calinic\, Arhiepiscop al Sucevei și Rădăuților\, va sluji Sfânta Liturghie\, împreună cu părinții slujitori ai Catedralei Arhiepiscopale din Suceava\, pe scena amenajată în curtea Mănăstirii „Sfântului Ioan cel Nou”. \nPreasfințitul Părinte Damaschin Dorneanul\, Episcop-Vicar al Arhiepiscopiei Sucevei și Rădăuților\, va sluji Sfânta Liturghie la Parohia „Naștere Sfântului Ioan Botezătorul” din Siret.
URL:https://www.arhiepiscopiasucevei.ro/evenimente/agenda-ierarhilor-la-praznicul-botezului-domnului-2023/
CATEGORIES:Agenda Ierarhilor
END:VEVENT
END:VCALENDAR