BEGIN:VCALENDAR
VERSION:2.0
PRODID:-//Arhiepiscopia Sucevei și Rădăuților - ECPv5.13.0//NONSGML v1.0//EN
CALSCALE:GREGORIAN
METHOD:PUBLISH
X-WR-CALNAME:Arhiepiscopia Sucevei și Rădăuților
X-ORIGINAL-URL:https://www.arhiepiscopiasucevei.ro
X-WR-CALDESC:Events for Arhiepiscopia Sucevei și Rădăuților
REFRESH-INTERVAL;VALUE=DURATION:PT1H
X-Robots-Tag:noindex
X-PUBLISHED-TTL:PT1H
BEGIN:VTIMEZONE
TZID:Europe/Bucharest
BEGIN:DAYLIGHT
TZOFFSETFROM:+0200
TZOFFSETTO:+0300
TZNAME:EEST
DTSTART:20220327T010000
END:DAYLIGHT
BEGIN:STANDARD
TZOFFSETFROM:+0300
TZOFFSETTO:+0200
TZNAME:EET
DTSTART:20221030T010000
END:STANDARD
END:VTIMEZONE
BEGIN:VEVENT
DTSTART;TZID=Europe/Bucharest:20221127T040000
DTEND;TZID=Europe/Bucharest:20221127T183000
DTSTAMP:20260420T000320
CREATED:20221126T113419Z
LAST-MODIFIED:20221126T113537Z
UID:44132-1669521600-1669573800@www.arhiepiscopiasucevei.ro
SUMMARY:Agenda ierarhilor în Duminica a XXX-a după Rusalii
DESCRIPTION:Duminică\, 27 noiembrie 2022 – Duminica a XXX-a după Rusalii (Dregătorul bogat – Păzirea poruncilor) \nÎnaltpreasfințitul Părinte Calinic\, Arhiepiscop al Sucevei și Rădăuților\, va săvârși Sfânta Liturghie în Paraclisul Mănăstirii „Sfântul Ioan cel Nou de la Suceava”. \nPreasfințitul Părinte Damaschin Dorneanul\, Episcop-Vicar al Arhiepiscopiei Sucevei și Rădăuților\, va săvârși Sfânta Liturghie la Parohia „Sfânta Ecaterina” – Sfântul Ilie\, Șcheia\, Protopopiatul Suceava II. \nÎncepând cu ora 16.00\, la Mănăstirea „Sfântul Ioan cel Nou”\, Catedrala Arhiepiscopală din Suceava\, ierarhii eparhiei noastre vor oficia Taina Sfântului Maslu de obște. La sfârșitul slujbei\, vor fi citite rugăciuni de dezlegare și pentru sănătate.
URL:https://www.arhiepiscopiasucevei.ro/evenimente/agenda-ierarhilor-in-duminica-a-xxx-a-dupa-rusalii-2/
END:VEVENT
END:VCALENDAR