BEGIN:VCALENDAR
VERSION:2.0
PRODID:-//Arhiepiscopia Sucevei și Rădăuților - ECPv5.13.0//NONSGML v1.0//EN
CALSCALE:GREGORIAN
METHOD:PUBLISH
X-WR-CALNAME:Arhiepiscopia Sucevei și Rădăuților
X-ORIGINAL-URL:https://www.arhiepiscopiasucevei.ro
X-WR-CALDESC:Events for Arhiepiscopia Sucevei și Rădăuților
REFRESH-INTERVAL;VALUE=DURATION:PT1H
X-Robots-Tag:noindex
X-PUBLISHED-TTL:PT1H
BEGIN:VTIMEZONE
TZID:Europe/Bucharest
BEGIN:DAYLIGHT
TZOFFSETFROM:+0200
TZOFFSETTO:+0300
TZNAME:EEST
DTSTART:20220327T010000
END:DAYLIGHT
BEGIN:STANDARD
TZOFFSETFROM:+0300
TZOFFSETTO:+0200
TZNAME:EET
DTSTART:20221030T010000
END:STANDARD
END:VTIMEZONE
BEGIN:VEVENT
DTSTART;TZID=Europe/Bucharest:20221121T073000
DTEND;TZID=Europe/Bucharest:20221121T180000
DTSTAMP:20260420T000244
CREATED:20221120T172824Z
LAST-MODIFIED:20221120T173012Z
UID:43982-1669015800-1669053600@www.arhiepiscopiasucevei.ro
SUMMARY:Agenda ierarhilor la Sărbătoarea „Intrarea în biserică a Maicii Domnului”
DESCRIPTION:Luni\, 21 noiembrie 2022 – Intrarea în biserică a Maicii Domnului \nÎnaltpreasfințitul Părinte Calinic\, Arhiepiscop al Sucevei și Rădăuților\, va săvârși Sfânta și Dumnezeiasca Liturghie la Mănăstirea „Intrarea în biserică a Maicii Domnului” din Rădăuți. \nPreasfințitul Părinte Damaschin Dorneanul\, Episcop-Vicar al Arhiepiscopiei Sucevei și Rădăuților\, va săvârși Sfânta și Dumnezeiasca Liturghie la Mănăstirea „Adormirea Maicii Domnului” Ițcani. Începând cu ora 16.00\, Preasfinția Sa va oficia slujba de sfințire a locului și punerea pietrei de temelie pentru biserica Centrului „Sfinții Părinți Ioachim și Ana” al Fundației Anastasie Crimca\, filiala Mănăstirea Humorului.
URL:https://www.arhiepiscopiasucevei.ro/evenimente/agenda-ierarhilor-la-sarbatoarea-intrarea-in-biserica-a-maicii-domnului/
CATEGORIES:Agenda Ierarhilor
END:VEVENT
END:VCALENDAR