BEGIN:VCALENDAR
VERSION:2.0
PRODID:-//Arhiepiscopia Sucevei și Rădăuților - ECPv5.13.0//NONSGML v1.0//EN
CALSCALE:GREGORIAN
METHOD:PUBLISH
X-WR-CALNAME:Arhiepiscopia Sucevei și Rădăuților
X-ORIGINAL-URL:https://www.arhiepiscopiasucevei.ro
X-WR-CALDESC:Events for Arhiepiscopia Sucevei și Rădăuților
REFRESH-INTERVAL;VALUE=DURATION:PT1H
X-Robots-Tag:noindex
X-PUBLISHED-TTL:PT1H
BEGIN:VTIMEZONE
TZID:Europe/Bucharest
BEGIN:DAYLIGHT
TZOFFSETFROM:+0200
TZOFFSETTO:+0300
TZNAME:EEST
DTSTART:20220327T010000
END:DAYLIGHT
BEGIN:STANDARD
TZOFFSETFROM:+0300
TZOFFSETTO:+0200
TZNAME:EET
DTSTART:20221030T010000
END:STANDARD
END:VTIMEZONE
BEGIN:VEVENT
DTSTART;TZID=Europe/Bucharest:20221030T080000
DTEND;TZID=Europe/Bucharest:20221030T130000
DTSTAMP:20260420T013434
CREATED:20221029T141922Z
LAST-MODIFIED:20221029T141922Z
UID:43085-1667116800-1667134800@www.arhiepiscopiasucevei.ro
SUMMARY:Agenda ierarhilor în Duminica a XXII-a după Rusalii
DESCRIPTION:Duminică\, 30 octombrie 2022 – Duminica a XXII-a după Rusalii (Bogatul nemilostiv și săracul Lazăr) \nÎnaltpreasfințitul Părinte Calinic\, Arhiepiscop al Sucevei și Rădăuților\, va săvârși Sfânta și Dumnezeiasca Liturghie la Mănăstirea „Sfântul Ioan cel Nou de la Suceava”. \nPreasfințitul Părinte Damaschin Dorneanul\, Episcop-Vicar al Arhiepiscopiei Sucevei și Rădăuților\, va săvârși slujba de resfințire a bisericii din lemn cu hramul „Sf. Dumitru” a Parohiei Adâncata II\, urmată de Sfânta și Dumnezeiasca Liturghie\, împreună cu Înaltpreasfințitul Părinte Teodosie\, Arhiepiscop al Tomisului.
URL:https://www.arhiepiscopiasucevei.ro/evenimente/agenda-ierarhilor-in-duminica-a-xxii-a-dupa-rusalii-2/
CATEGORIES:Agenda Ierarhilor
END:VEVENT
END:VCALENDAR