BEGIN:VCALENDAR
VERSION:2.0
PRODID:-//Arhiepiscopia Sucevei și Rădăuților - ECPv5.13.0//NONSGML v1.0//EN
CALSCALE:GREGORIAN
METHOD:PUBLISH
X-WR-CALNAME:Arhiepiscopia Sucevei și Rădăuților
X-ORIGINAL-URL:https://www.arhiepiscopiasucevei.ro
X-WR-CALDESC:Events for Arhiepiscopia Sucevei și Rădăuților
REFRESH-INTERVAL;VALUE=DURATION:PT1H
X-Robots-Tag:noindex
X-PUBLISHED-TTL:PT1H
BEGIN:VTIMEZONE
TZID:Europe/Bucharest
BEGIN:DAYLIGHT
TZOFFSETFROM:+0200
TZOFFSETTO:+0300
TZNAME:EEST
DTSTART:20220327T010000
END:DAYLIGHT
BEGIN:STANDARD
TZOFFSETFROM:+0300
TZOFFSETTO:+0200
TZNAME:EET
DTSTART:20221030T010000
END:STANDARD
END:VTIMEZONE
BEGIN:VEVENT
DTSTART;TZID=Europe/Bucharest:20221023T050000
DTEND;TZID=Europe/Bucharest:20221023T130000
DTSTAMP:20260420T013439
CREATED:20221022T131720Z
LAST-MODIFIED:20221022T131735Z
UID:42897-1666501200-1666530000@www.arhiepiscopiasucevei.ro
SUMMARY:Agenda ierarhilor în Duminica a XXIII-a după Rusalii
DESCRIPTION:Duminică\, 23 octombrie 2022 – Duminica a XXIII-a după Rusalii (Vindecarea demonizatului din ținutul Gherghesenilor) \nÎnaltpreasfințitul Părinte Calinic\, Arhiepiscop al Sucevei și Rădăuților\, va săvârși Sfânta Liturghie în Paraclisul Mănăstirii „Sfântul Ioan cel Nou de la Suceava”. \nPreasfințitul Părinte Damaschin Dorneanul\, Episcop-Vicar al Arhiepiscopiei Sucevei și Rădăuților\, va săvârși Sfânta Liturghie în Parohia Soloneț\, Protopopiatul Suceava I.
URL:https://www.arhiepiscopiasucevei.ro/evenimente/agenda-ierarhilor-in-duminica-a-xxiii-a-dupa-rusalii-3/
CATEGORIES:Agenda Ierarhilor
END:VEVENT
END:VCALENDAR