BEGIN:VCALENDAR
VERSION:2.0
PRODID:-//Arhiepiscopia Sucevei și Rădăuților - ECPv5.13.0//NONSGML v1.0//EN
CALSCALE:GREGORIAN
METHOD:PUBLISH
X-WR-CALNAME:Arhiepiscopia Sucevei și Rădăuților
X-ORIGINAL-URL:https://www.arhiepiscopiasucevei.ro
X-WR-CALDESC:Events for Arhiepiscopia Sucevei și Rădăuților
REFRESH-INTERVAL;VALUE=DURATION:PT1H
X-Robots-Tag:noindex
X-PUBLISHED-TTL:PT1H
BEGIN:VTIMEZONE
TZID:Europe/Bucharest
BEGIN:DAYLIGHT
TZOFFSETFROM:+0200
TZOFFSETTO:+0300
TZNAME:EEST
DTSTART:20220327T010000
END:DAYLIGHT
BEGIN:STANDARD
TZOFFSETFROM:+0300
TZOFFSETTO:+0200
TZNAME:EET
DTSTART:20221030T010000
END:STANDARD
END:VTIMEZONE
BEGIN:VEVENT
DTSTART;TZID=Europe/Bucharest:20221001T080000
DTEND;TZID=Europe/Bucharest:20221001T130000
DTSTAMP:20260420T013440
CREATED:20220930T074716Z
LAST-MODIFIED:20220930T132339Z
UID:41088-1664611200-1664629200@www.arhiepiscopiasucevei.ro
SUMMARY:Agenda ierarhilor la Sărbătoarea Acoperământului Maicii Domnului
DESCRIPTION:Sâmbătă\, 1 octombrie 2022 – Acoperământul Maicii Domnului \nÎnaltpreasfințitul Părinte Calinic\, Arhiepiscop al Sucevei și Rădăuților\, va săvârși Sfânta Liturghie la Mănăstirea Siminicea\, Protopopiatul Suceava I\, cu prilejul hramului așezământului monahal. Totodată\, ierarhul va binecuvânta și locul pentru zidirea noii biserici a mănăstirii. \nPreasfințitul Părinte Damaschin Dorneanul\, Episcop-Vicar al Arhiepiscopiei Sucevei și Rădăuților\, va săvârși Sfânta Liturghie la Parohia Bălcăuți\, Protopopiatul Rădăuți\, cu prilejul resfințirii Bisericii „Acoperământul Maicii Domnului”.
URL:https://www.arhiepiscopiasucevei.ro/evenimente/agenda-ierarhilor-la-sarbatoarea-acoperamantului-maicii-domnului-2/
CATEGORIES:Agenda Ierarhilor
END:VEVENT
END:VCALENDAR