BEGIN:VCALENDAR
VERSION:2.0
PRODID:-//Arhiepiscopia Sucevei și Rădăuților - ECPv5.13.0//NONSGML v1.0//EN
CALSCALE:GREGORIAN
METHOD:PUBLISH
X-WR-CALNAME:Arhiepiscopia Sucevei și Rădăuților
X-ORIGINAL-URL:https://www.arhiepiscopiasucevei.ro
X-WR-CALDESC:Events for Arhiepiscopia Sucevei și Rădăuților
REFRESH-INTERVAL;VALUE=DURATION:PT1H
X-Robots-Tag:noindex
X-PUBLISHED-TTL:PT1H
BEGIN:VTIMEZONE
TZID:Europe/Bucharest
BEGIN:DAYLIGHT
TZOFFSETFROM:+0200
TZOFFSETTO:+0300
TZNAME:EEST
DTSTART:20220327T010000
END:DAYLIGHT
BEGIN:STANDARD
TZOFFSETFROM:+0300
TZOFFSETTO:+0200
TZNAME:EET
DTSTART:20221030T010000
END:STANDARD
END:VTIMEZONE
BEGIN:VEVENT
DTSTART;TZID=Europe/Bucharest:20220923T090000
DTEND;TZID=Europe/Bucharest:20220923T120000
DTSTAMP:20260420T030238
CREATED:20220922T114055Z
LAST-MODIFIED:20220922T114055Z
UID:40666-1663923600-1663934400@www.arhiepiscopiasucevei.ro
SUMMARY:Agenda ierarhilor în ziua cinstirii Icoanei făcătoare de minuni a Sfântului Ioan Botezătorul de la Mănăstirea Gorovei
DESCRIPTION:Vineri\, 23 septembrie 2022 – În ziua cinstirii Icoanei făcătoare de minuni a Sfântului Ioan Botezătorul de la Mănăstirea Gorovei \nÎnaltpreasfințitul Părinte Calinic\, Arhiepiscop al Sucevei și Rădăuților\, va săvârși Sfânta Liturghie la Mănăstirea Gorovei\, cu prilejul cinstirii Icoanei făcătoare de minuni a Sfântului Ioan Botezătorul\, odor al sfântului locaș.
URL:https://www.arhiepiscopiasucevei.ro/evenimente/agenda-ierarhilor-in-ziua-cinstirii-icoanei-facatoare-de-minuni-a-sfantului-ioan-botezatorul-de-la-manastirea-gorovei/
CATEGORIES:Agenda Ierarhilor
END:VEVENT
END:VCALENDAR