BEGIN:VCALENDAR
VERSION:2.0
PRODID:-//Arhiepiscopia Sucevei și Rădăuților - ECPv5.13.0//NONSGML v1.0//EN
CALSCALE:GREGORIAN
METHOD:PUBLISH
X-WR-CALNAME:Arhiepiscopia Sucevei și Rădăuților
X-ORIGINAL-URL:https://www.arhiepiscopiasucevei.ro
X-WR-CALDESC:Events for Arhiepiscopia Sucevei și Rădăuților
REFRESH-INTERVAL;VALUE=DURATION:PT1H
X-Robots-Tag:noindex
X-PUBLISHED-TTL:PT1H
BEGIN:VTIMEZONE
TZID:Europe/Bucharest
BEGIN:DAYLIGHT
TZOFFSETFROM:+0200
TZOFFSETTO:+0300
TZNAME:EEST
DTSTART:20220327T010000
END:DAYLIGHT
BEGIN:STANDARD
TZOFFSETFROM:+0300
TZOFFSETTO:+0200
TZNAME:EET
DTSTART:20221030T010000
END:STANDARD
END:VTIMEZONE
BEGIN:VEVENT
DTSTART;TZID=Europe/Bucharest:20220918T050000
DTEND;TZID=Europe/Bucharest:20220918T130000
DTSTAMP:20260420T031456
CREATED:20220917T131331Z
LAST-MODIFIED:20220917T132539Z
UID:40342-1663477200-1663506000@www.arhiepiscopiasucevei.ro
SUMMARY:Agenda ierarhilor în Duminica după Înălțarea Sfintei Cruci
DESCRIPTION:Duminică\, 18 septembrie 2022 – Duminica după Înălțarea Sfintei Cruci (Luarea Crucii și urmarea lui Hristos) \nÎnaltpreasfințitul Părinte Calinic\, Arhiepiscop al Sucevei și Rădăuților\, va sluji Sfânta Liturghie în Paraclisul Mănăstirii „Sfântul Ioan cel Nou de la Suceava”. \nPreasfințitul Părinte Damaschin Dorneanul\, Episcop-Vicar al Arhiepiscopiei Sucevei și Rădăuților\, va slujii Sfânta Liturghie în Parohia „Înălțarea Domnului” Doroteia\, Protopopiatul Câmpulung Moldovenesc.
URL:https://www.arhiepiscopiasucevei.ro/evenimente/agenda-ierarhilor-in-duminica-dupa-inaltarea-sfintei-cruci-2/
CATEGORIES:Agenda Ierarhilor
END:VEVENT
END:VCALENDAR