BEGIN:VCALENDAR
VERSION:2.0
PRODID:-//Arhiepiscopia Sucevei și Rădăuților - ECPv5.13.0//NONSGML v1.0//EN
CALSCALE:GREGORIAN
METHOD:PUBLISH
X-WR-CALNAME:Arhiepiscopia Sucevei și Rădăuților
X-ORIGINAL-URL:https://www.arhiepiscopiasucevei.ro
X-WR-CALDESC:Events for Arhiepiscopia Sucevei și Rădăuților
REFRESH-INTERVAL;VALUE=DURATION:PT1H
X-Robots-Tag:noindex
X-PUBLISHED-TTL:PT1H
BEGIN:VTIMEZONE
TZID:Europe/Bucharest
BEGIN:DAYLIGHT
TZOFFSETFROM:+0200
TZOFFSETTO:+0300
TZNAME:EEST
DTSTART:20220327T010000
END:DAYLIGHT
BEGIN:STANDARD
TZOFFSETFROM:+0300
TZOFFSETTO:+0200
TZNAME:EET
DTSTART:20221030T010000
END:STANDARD
END:VTIMEZONE
BEGIN:VEVENT
DTSTART;TZID=Europe/Bucharest:20220814T080000
DTEND;TZID=Europe/Bucharest:20220814T170000
DTSTAMP:20260420T045946
CREATED:20220814T183258Z
LAST-MODIFIED:20220814T183258Z
UID:39160-1660464000-1660496400@www.arhiepiscopiasucevei.ro
SUMMARY:Agenda ierarhilor la Praznicul Adormirii Maicii Domnului
DESCRIPTION:Luni\, 15 august 2022 – Adormirea Maicii Domnului \nÎnaltpreasfințitul Părinte Calinic\, împreună cu Preasfințitul Părinte Damaschin Dorneanul\, Episcop-Vicar al Arhiepiscopiei Sucevei și Rădăuților\, va săvârși Sfânta Liturghie la Mănăstirea Putna\, Protopopiatul Rădăuți\, cu prilejul hramului așezământului monahal.
URL:https://www.arhiepiscopiasucevei.ro/evenimente/agenda-ierarhilor-la-praznicul-adormirii-maicii-domnului-2/
END:VEVENT
END:VCALENDAR