BEGIN:VCALENDAR
VERSION:2.0
PRODID:-//Arhiepiscopia Sucevei și Rădăuților - ECPv5.13.0//NONSGML v1.0//EN
CALSCALE:GREGORIAN
METHOD:PUBLISH
X-WR-CALNAME:Arhiepiscopia Sucevei și Rădăuților
X-ORIGINAL-URL:https://www.arhiepiscopiasucevei.ro
X-WR-CALDESC:Events for Arhiepiscopia Sucevei și Rădăuților
REFRESH-INTERVAL;VALUE=DURATION:PT1H
X-Robots-Tag:noindex
X-PUBLISHED-TTL:PT1H
BEGIN:VTIMEZONE
TZID:Europe/Bucharest
BEGIN:DAYLIGHT
TZOFFSETFROM:+0200
TZOFFSETTO:+0300
TZNAME:EEST
DTSTART:20220327T010000
END:DAYLIGHT
BEGIN:STANDARD
TZOFFSETFROM:+0300
TZOFFSETTO:+0200
TZNAME:EET
DTSTART:20221030T010000
END:STANDARD
END:VTIMEZONE
BEGIN:VEVENT
DTSTART;TZID=Europe/Bucharest:20220720T073000
DTEND;TZID=Europe/Bucharest:20220720T120000
DTSTAMP:20260420T064426
CREATED:20220719T085759Z
LAST-MODIFIED:20220719T085814Z
UID:38414-1658302200-1658318400@www.arhiepiscopiasucevei.ro
SUMMARY:Agenda ierarhilor la Sărbătoarea Sfântului Proroc Ilie Tesviteanul
DESCRIPTION:Miercuri\, 20 iulie 2022 – Sfântul Proroc Ilie Tesviteanul \nÎnaltpreasfințitul Părinte Arhiepiscop Calinic\, împreună cu Preasfințitul Părinte Damaschin Dorneanul\, Episcop-Vicar al Arhiepiscopiei Sucevei și Rădăuților\, va săvârși slujba de resfințire a bisericii monument a Mănăstirii „Sfântul Ilie” Șcheia și va oficia Sfânta Liturghie pe un podium special amenajat în curtea locașului de cult. \nProgramul liturgic detaliat\, precum și mai multe informații istorice puteți afla AICI.
URL:https://www.arhiepiscopiasucevei.ro/evenimente/agenda-ierarhilor-la-sarbatoarea-sfantului-proroc-ilie-tesviteanul-2/
CATEGORIES:Agenda Ierarhilor
END:VEVENT
END:VCALENDAR