BEGIN:VCALENDAR
VERSION:2.0
PRODID:-//Arhiepiscopia Sucevei și Rădăuților - ECPv5.13.0//NONSGML v1.0//EN
CALSCALE:GREGORIAN
METHOD:PUBLISH
X-WR-CALNAME:Arhiepiscopia Sucevei și Rădăuților
X-ORIGINAL-URL:https://www.arhiepiscopiasucevei.ro
X-WR-CALDESC:Events for Arhiepiscopia Sucevei și Rădăuților
REFRESH-INTERVAL;VALUE=DURATION:PT1H
X-Robots-Tag:noindex
X-PUBLISHED-TTL:PT1H
BEGIN:VTIMEZONE
TZID:Europe/Bucharest
BEGIN:DAYLIGHT
TZOFFSETFROM:+0200
TZOFFSETTO:+0300
TZNAME:EEST
DTSTART:20220327T010000
END:DAYLIGHT
BEGIN:STANDARD
TZOFFSETFROM:+0300
TZOFFSETTO:+0200
TZNAME:EET
DTSTART:20221030T010000
END:STANDARD
END:VTIMEZONE
BEGIN:VEVENT
DTSTART;TZID=Europe/Bucharest:20220619T083000
DTEND;TZID=Europe/Bucharest:20220619T120000
DTSTAMP:20260420T083508
CREATED:20220618T070336Z
LAST-MODIFIED:20220618T070336Z
UID:34975-1655627400-1655640000@www.arhiepiscopiasucevei.ro
SUMMARY:Agenda ierarhilor în Duminica Tuturor Sfinților
DESCRIPTION:Duminică\, 19 iunie 2022 – Duminica Tuturor Sfinților \nÎnaltpreasfințitul Părinte Calinic\, Arhiepiscop al Sucevei și Rădăuților\, împreună cu Preasfințitul Părinte Ignatie\, Episcop al Hușilor\, și Preasfințitul Părinte Damaschin Dorneanul\, Episcop-Vicar al Arhiepiscopiei Sucevei și Rădăuților\, va săvârși Sfânta Liturghie la Mănăstirea Părhăuți\, cu prilejul hramului și a împlinirii a 500 de ani de la sfințirea locașului de cult\, în contextul Anului Jubiliar 500 – Moștenirea Mușatină. Credință\, Cultură\, Istorie.
URL:https://www.arhiepiscopiasucevei.ro/evenimente/agenda-ierarhilor-in-duminica-tuturor-sfintilor/
CATEGORIES:Agenda Ierarhilor
END:VEVENT
END:VCALENDAR