BEGIN:VCALENDAR
VERSION:2.0
PRODID:-//Arhiepiscopia Sucevei și Rădăuților - ECPv5.13.0//NONSGML v1.0//EN
CALSCALE:GREGORIAN
METHOD:PUBLISH
X-WR-CALNAME:Arhiepiscopia Sucevei și Rădăuților
X-ORIGINAL-URL:https://www.arhiepiscopiasucevei.ro
X-WR-CALDESC:Events for Arhiepiscopia Sucevei și Rădăuților
REFRESH-INTERVAL;VALUE=DURATION:PT1H
X-Robots-Tag:noindex
X-PUBLISHED-TTL:PT1H
BEGIN:VTIMEZONE
TZID:Europe/Bucharest
BEGIN:DAYLIGHT
TZOFFSETFROM:+0200
TZOFFSETTO:+0300
TZNAME:EEST
DTSTART:20220327T010000
END:DAYLIGHT
BEGIN:STANDARD
TZOFFSETFROM:+0300
TZOFFSETTO:+0200
TZNAME:EET
DTSTART:20221030T010000
END:STANDARD
END:VTIMEZONE
BEGIN:VEVENT
DTSTART;TZID=Europe/Bucharest:20220613T043000
DTEND;TZID=Europe/Bucharest:20220613T070000
DTSTAMP:20260420T083507
CREATED:20220612T175607Z
LAST-MODIFIED:20220612T175607Z
UID:34642-1655094600-1655103600@www.arhiepiscopiasucevei.ro
SUMMARY:Agenda ierarhilor la Praznicul Preasfintei Treimi
DESCRIPTION:Luni\, 13 iunie 2022 – Sfânta Treime \nÎnaltpreasfințitul Părinte Calinic\, Arhiepiscop al Sucevei și Rădăuților\, va sluji Sfânta Liturghie în Paraclisul Mănăstirii „Sfântul Ioan cel Nou de la Suceava”.
URL:https://www.arhiepiscopiasucevei.ro/evenimente/agenda-ierarhilor-la-praznicul-preasfintei-treimi/
END:VEVENT
END:VCALENDAR