BEGIN:VCALENDAR
VERSION:2.0
PRODID:-//Arhiepiscopia Sucevei și Rădăuților - ECPv5.13.0//NONSGML v1.0//EN
CALSCALE:GREGORIAN
METHOD:PUBLISH
X-WR-CALNAME:Arhiepiscopia Sucevei și Rădăuților
X-ORIGINAL-URL:https://www.arhiepiscopiasucevei.ro
X-WR-CALDESC:Events for Arhiepiscopia Sucevei și Rădăuților
REFRESH-INTERVAL;VALUE=DURATION:PT1H
X-Robots-Tag:noindex
X-PUBLISHED-TTL:PT1H
BEGIN:VTIMEZONE
TZID:Europe/Bucharest
BEGIN:DAYLIGHT
TZOFFSETFROM:+0200
TZOFFSETTO:+0300
TZNAME:EEST
DTSTART:20220327T010000
END:DAYLIGHT
BEGIN:STANDARD
TZOFFSETFROM:+0300
TZOFFSETTO:+0200
TZNAME:EET
DTSTART:20221030T010000
END:STANDARD
END:VTIMEZONE
BEGIN:VEVENT
DTSTART;TZID=Europe/Bucharest:20220611T080000
DTEND;TZID=Europe/Bucharest:20220611T170000
DTSTAMP:20260420T083507
CREATED:20220611T090303Z
LAST-MODIFIED:20220611T090303Z
UID:34594-1654934400-1654966800@www.arhiepiscopiasucevei.ro
SUMMARY:Agenda ierarhilor la Praznicul Pogorârii Sfântului Duh
DESCRIPTION:Duminică\, 12 iunie 2022 – Duminica a VIII-a după Paști\, Pogorârea Sfântului Duh (Cincizecimea sau Rusaliile) \nÎnaltpreasfințitul Părinte Calinic\, Arhiepiscop al Sucevei și Rădăuților\, va sluji Sfânta Liturghie la Mănăstirea „Sfântul Ioan cel Nou”\, Catedrala Arhiepiscopală din Suceava. \nPreasfințitul Părinte Damaschin Dorneanul\, Episcop-Vicar al Arhiepiscopiei Sucevei și Rădăuților\, va sluji Sfânta Liturghie la Mănăstirea Dragomirna\, cu prilejul hramului așezământului monahal.
URL:https://www.arhiepiscopiasucevei.ro/evenimente/agenda-ierarhilor-la-praznicul-pogorarii-sfantului-duh-2/
END:VEVENT
END:VCALENDAR