BEGIN:VCALENDAR
VERSION:2.0
PRODID:-//Arhiepiscopia Sucevei și Rădăuților - ECPv5.13.0//NONSGML v1.0//EN
CALSCALE:GREGORIAN
METHOD:PUBLISH
X-WR-CALNAME:Arhiepiscopia Sucevei și Rădăuților
X-ORIGINAL-URL:https://www.arhiepiscopiasucevei.ro
X-WR-CALDESC:Events for Arhiepiscopia Sucevei și Rădăuților
REFRESH-INTERVAL;VALUE=DURATION:PT1H
X-Robots-Tag:noindex
X-PUBLISHED-TTL:PT1H
BEGIN:VTIMEZONE
TZID:Europe/Bucharest
BEGIN:DAYLIGHT
TZOFFSETFROM:+0200
TZOFFSETTO:+0300
TZNAME:EEST
DTSTART:20220327T010000
END:DAYLIGHT
BEGIN:STANDARD
TZOFFSETFROM:+0300
TZOFFSETTO:+0200
TZNAME:EET
DTSTART:20221030T010000
END:STANDARD
END:VTIMEZONE
BEGIN:VEVENT
DTSTART;TZID=Europe/Bucharest:20220529T080000
DTEND;TZID=Europe/Bucharest:20220529T130000
DTSTAMP:20260420T101258
CREATED:20220528T083431Z
LAST-MODIFIED:20220528T090410Z
UID:33876-1653811200-1653829200@www.arhiepiscopiasucevei.ro
SUMMARY:Agenda ierarhilor în Duminica a VI-a după Paști (a Orbului din naștere)
DESCRIPTION:Duminică\, 29 mai 2022 – Duminica a VI-a după Paști (a Orbului din naștere) \nÎnaltpreasfințitul Părinte Calinic\, Arhiepiscop al Sucevei și Rădăuților\, va sluji Sfânta Liturghie la Mănăstirea Sfântul Ioan cel Nou\, Catedrala Arhiepiscopală din Suceava. \nPreasfințitul Părinte Damaschin Dorneanul\, Episcop-Vicar al Arhiepiscopiei Sucevei și Rădăuților\, va sluji Sfânta Liturghie în Parohia Ortodoxă „Acoperământul Maicii Domnului”\, Vicovu de Sus – Plai\, Protopopiatul Rădăuți.
URL:https://www.arhiepiscopiasucevei.ro/evenimente/agenda-ierarhilor-in-duminica-a-vi-a-dupa-pasti-a-orbului-din-nastere/
CATEGORIES:Agenda Ierarhilor
END:VEVENT
END:VCALENDAR