BEGIN:VCALENDAR
VERSION:2.0
PRODID:-//Arhiepiscopia Sucevei și Rădăuților - ECPv5.13.0//NONSGML v1.0//EN
CALSCALE:GREGORIAN
METHOD:PUBLISH
X-WR-CALNAME:Arhiepiscopia Sucevei și Rădăuților
X-ORIGINAL-URL:https://www.arhiepiscopiasucevei.ro
X-WR-CALDESC:Events for Arhiepiscopia Sucevei și Rădăuților
REFRESH-INTERVAL;VALUE=DURATION:PT1H
X-Robots-Tag:noindex
X-PUBLISHED-TTL:PT1H
BEGIN:VTIMEZONE
TZID:Europe/Bucharest
BEGIN:DAYLIGHT
TZOFFSETFROM:+0200
TZOFFSETTO:+0300
TZNAME:EEST
DTSTART:20220327T010000
END:DAYLIGHT
BEGIN:STANDARD
TZOFFSETFROM:+0300
TZOFFSETTO:+0200
TZNAME:EET
DTSTART:20221030T010000
END:STANDARD
END:VTIMEZONE
BEGIN:VEVENT
DTSTART;TZID=Europe/Bucharest:20220425T080000
DTEND;TZID=Europe/Bucharest:20220426T120000
DTSTAMP:20260420T101259
CREATED:20220424T074157Z
LAST-MODIFIED:20220424T074157Z
UID:31963-1650873600-1650974400@www.arhiepiscopiasucevei.ro
SUMMARY:Agenda ierarhilor din Arhiepiscopia Sucevei și Rădăuților în perioada Sfintelor Paști
DESCRIPTION:Luni\, 25 aprilie 2022 – Sfintele Paști; Sf. Mare Mucenic Gheorghe\, Purtătorul de biruință \nÎnaltpreasfințitul Părinte Calinic\, Arhiepiscop al Sucevei și Rădăuților\, va sluji Sfânta Liturghie la Mănăstirea „Sfântul Ioan cel Nou”\, Catedrala Arhiepiscopală din Suceava. \nPreasfințitul Părinte Damaschin Dorneanul\, Episcop-Vicar al Arhiepiscopiei Sucevei și Rădăuților\, va sluji Sfânta Liturghie la Catedrala „Învierea Domnului” din Fălticeni. \nMarți\, 26 aprilie 2022 – Sfintele Paști \nPreasfințitul Părinte Damaschin Dorneanul\, Episcop-Vicar al Arhiepiscopiei Sucevei și Rădăuților\, va sluji Sfânta Liturghie la Mănăstirea Voroneț.
URL:https://www.arhiepiscopiasucevei.ro/evenimente/agenda-ierarhilor-din-arhiepiscopia-sucevei-si-radautilor-in-perioada-sfintelor-pasti/
CATEGORIES:Agenda Ierarhilor
END:VEVENT
END:VCALENDAR