BEGIN:VCALENDAR
VERSION:2.0
PRODID:-//Arhiepiscopia Sucevei și Rădăuților - ECPv5.13.0//NONSGML v1.0//EN
CALSCALE:GREGORIAN
METHOD:PUBLISH
X-WR-CALNAME:Arhiepiscopia Sucevei și Rădăuților
X-ORIGINAL-URL:https://www.arhiepiscopiasucevei.ro
X-WR-CALDESC:Events for Arhiepiscopia Sucevei și Rădăuților
REFRESH-INTERVAL;VALUE=DURATION:PT1H
X-Robots-Tag:noindex
X-PUBLISHED-TTL:PT1H
BEGIN:VTIMEZONE
TZID:Europe/Bucharest
BEGIN:DAYLIGHT
TZOFFSETFROM:+0200
TZOFFSETTO:+0300
TZNAME:EEST
DTSTART:20220327T010000
END:DAYLIGHT
BEGIN:STANDARD
TZOFFSETFROM:+0300
TZOFFSETTO:+0200
TZNAME:EET
DTSTART:20221030T010000
END:STANDARD
END:VTIMEZONE
BEGIN:VEVENT
DTSTART;TZID=Europe/Bucharest:20220421T080000
DTEND;TZID=Europe/Bucharest:20220424T170000
DTSTAMP:20260420T114510
CREATED:20220419T140125Z
LAST-MODIFIED:20220423T155230Z
UID:31555-1650528000-1650819600@www.arhiepiscopiasucevei.ro
SUMMARY:Agenda ierarhilor din Arhiepiscopia Sucevei și Rădăuților în perioada 20-24 aprilie 2022
DESCRIPTION:Miercuri\, 20 aprilie 2022 – Sfânta și Marea Miercuri \nÎnaltpreasfințitul Părinte Calinic\, Arhiepiscop al Sucevei și Rădăuților\, va sluji Sfânta Liturghie a Darurilor mai înainte sfințite la Mănăstirea „Sfântul Ioan cel Nou”\, Catedrala Arhiepiscopală din Suceava\, începând cu ora 08.00. \nJoi\, 21 aprilie 2022 – Sfânta și Marea Joi \nÎnaltpreasfințitul Părinte Calinic\, Arhiepiscop al Sucevei și Rădăuților\, va sluji Sfânta Liturghie la Mănăstirea „Sfântul Ioan cel Nou”\, Catedrala Arhiepiscopală din Suceava\, iar începând cu ora 18.00 va săvârși Denia celor 12 Evanghelii. \nPreasfințitul Părinte Damaschin Dorneanul\, Episcop-Vicar al Arhiepiscopiei Sucevei și Rădăuților\, va sluji Sfânta Liturghie la Mănăstirea „Acoperământul Maicii Domnului” – Secries\, Comuna Moldovița\, Protopopiatul Câmpulung Moldovenesc. Denia celor 12 Evaghelii va fi săvârșită la Catedrala „Sfânta Treime” Vatra Dornei. \nVineri\, 22 aprilie 2022 – Sfânta și Marea Vineri \nÎnaltpreasfințitul Părinte Calinic\, Arhiepiscop al Sucevei și Rădăuților\, va săvârși Denia Prohodului Domnului\, începând cu ora 18.00\, la Mănăstirea „Sfântul Ioan cel Nou”\, Catedrala Arhiepiscopală din Suceava. \nPreasfințitul Părinte Damaschin Dorneanul\, Episcop-Vicar al Arhiepiscopiei Sucevei și Rădăuților\, va sluji Vecernia cu Scoaterea Sfântului Epitaf\, începând cu ora 14.00\, la Mănăstirea „Sfântul Ioan cel Nou”\, Catedrala Arhiepiscopală din Suceava. În seara aceste zile\, va oficia Denia Prohodului Domnului la Parohia „Sfânta Vineri” din Municipiul Suceava. \nSâmbătă\, 23 aprilie 2022 – Sfânta și Marea Sâmbătă \nPreasfințitul Părinte Damaschin Dorneanul\, Episcop-Vicar al Arhiepiscopiei Sucevei și Rădăuților\, va sluji Sfânta Liturghie la Mănăstirea Cămârzani\, Protopopiatul Fălticeni \nDuminică\, 24 aprilie 2022 – Învierea Domnului \nÎnaltpreasfințitul Părinte Calinic\, Arhiepiscop al Sucevei și Rădăuților\, va sluji Sfânta Liturghie\, în noaptea de Paști\, la Mănăstirea „Sfântul Ioan cel Nou”\, Catedrala Arhiepiscopală din Suceava\, iar începând cu ora 12.00\, Vecernia sau a „A doua înviere”. Slujbele vor fi transmise online pe pagina oficială de Facebook. \nPreasfințitul Părinte Damaschin Dorneanul\, Episcop-Vicar al Arhiepiscopiei Sucevei și Rădăuților\, va sluji Sfânta Liturghie la Mănăstirea Mănăstirea Sihăstria Putnei\, Protopopiatul Rădăuți. În cursul aceleiași zi\, ierarhul va săvârși slujba Vecerniei sau „A doua Înviere” la Mănăstirile Sucevița și „Acoperământul Maicii Domnului” Marginea\, Protopopiatul Rădăuți.
URL:https://www.arhiepiscopiasucevei.ro/evenimente/agenda-ierarhilor-in-perioada-20-24-aprilie-2022/
CATEGORIES:Agenda Ierarhilor
END:VEVENT
END:VCALENDAR