BEGIN:VCALENDAR
VERSION:2.0
PRODID:-//Arhiepiscopia Sucevei și Rădăuților - ECPv5.13.0//NONSGML v1.0//EN
CALSCALE:GREGORIAN
METHOD:PUBLISH
X-WR-CALNAME:Arhiepiscopia Sucevei și Rădăuților
X-ORIGINAL-URL:https://www.arhiepiscopiasucevei.ro
X-WR-CALDESC:Events for Arhiepiscopia Sucevei și Rădăuților
REFRESH-INTERVAL;VALUE=DURATION:PT1H
X-Robots-Tag:noindex
X-PUBLISHED-TTL:PT1H
BEGIN:VTIMEZONE
TZID:Europe/Bucharest
BEGIN:DAYLIGHT
TZOFFSETFROM:+0200
TZOFFSETTO:+0300
TZNAME:EEST
DTSTART:20220327T010000
END:DAYLIGHT
BEGIN:STANDARD
TZOFFSETFROM:+0300
TZOFFSETTO:+0200
TZNAME:EET
DTSTART:20221030T010000
END:STANDARD
END:VTIMEZONE
BEGIN:VEVENT
DTSTART;TZID=Europe/Bucharest:20220403T040000
DTEND;TZID=Europe/Bucharest:20220403T130000
DTSTAMP:20260420T114510
CREATED:20220402T115800Z
LAST-MODIFIED:20220402T115855Z
UID:30335-1648958400-1648990800@www.arhiepiscopiasucevei.ro
SUMMARY:Agenda ierarhilor în Duminica a patra din Post (a Sfântului Ioan Scărarul)
DESCRIPTION:Duminică\, 3 aprilie 2022 – Duminica a patra din Post (a Sfântului Ioan Scărarul) \nÎnaltpreasfințitul Părinte Calinic\, Arhiepiscop al Sucevei și Rădăuților\, va sluji Sfânta Liturghie în Paraclisul Mănăstirii „Sfântul Ioan cel Nou”. \nPreasfințitul Părinte Damaschin Dorneanul\, Episcop-Vicar al Arhiepiscopiei Sucevei și Rădăuților\, va sluji Sfânta Liturghie la Parohia „Sfântul Mare Mucenic Dimitrie” – Negostina\, comuna Bălcăuţi\, Protopopiatul Rădăuţi\, judeţul Suceava.
URL:https://www.arhiepiscopiasucevei.ro/evenimente/agenda-ierarhilor-in-duminica-a-patra-din-post-a-sfantului-ioan-scararul/
END:VEVENT
END:VCALENDAR