BEGIN:VCALENDAR
VERSION:2.0
PRODID:-//Arhiepiscopia Sucevei și Rădăuților - ECPv5.13.0//NONSGML v1.0//EN
CALSCALE:GREGORIAN
METHOD:PUBLISH
X-WR-CALNAME:Arhiepiscopia Sucevei și Rădăuților
X-ORIGINAL-URL:https://www.arhiepiscopiasucevei.ro
X-WR-CALDESC:Events for Arhiepiscopia Sucevei și Rădăuților
REFRESH-INTERVAL;VALUE=DURATION:PT1H
X-Robots-Tag:noindex
X-PUBLISHED-TTL:PT1H
BEGIN:VTIMEZONE
TZID:Europe/Bucharest
BEGIN:DAYLIGHT
TZOFFSETFROM:+0200
TZOFFSETTO:+0300
TZNAME:EEST
DTSTART:20210328T010000
END:DAYLIGHT
BEGIN:STANDARD
TZOFFSETFROM:+0300
TZOFFSETTO:+0200
TZNAME:EET
DTSTART:20211031T010000
END:STANDARD
END:VTIMEZONE
BEGIN:VEVENT
DTSTART;TZID=Europe/Bucharest:20211031T053000
DTEND;TZID=Europe/Bucharest:20211031T130000
DTSTAMP:20260420T214051
CREATED:20211030T112804Z
LAST-MODIFIED:20211030T112804Z
UID:23691-1635658200-1635685200@www.arhiepiscopiasucevei.ro
SUMMARY:Agenda ierarhilor în Duminica a XXII-a după Rusalii
DESCRIPTION:Duminică\, 31 octombrie 2021 – Duminica a XXII-a după Rusalii (Bogatul nemilostiv și săracul Lazăr) \nPreasfințitul Părinte Damaschin Dorneanul\, Episcop-Vicar al Arhiepiscopiei Sucevei și Rădăuților\, va sluji Sfânta Liturghie în Parohia „Adormirea Maicii Domnului” Rotunda\, Protopopiatul Fălticeni.
URL:https://www.arhiepiscopiasucevei.ro/evenimente/agenda-ierarhilor-in-duminica-a-xxii-a-dupa-rusalii/
CATEGORIES:Agenda Ierarhilor
END:VEVENT
END:VCALENDAR