BEGIN:VCALENDAR
VERSION:2.0
PRODID:-//Arhiepiscopia Sucevei și Rădăuților - ECPv5.13.0//NONSGML v1.0//EN
CALSCALE:GREGORIAN
METHOD:PUBLISH
X-WR-CALNAME:Arhiepiscopia Sucevei și Rădăuților
X-ORIGINAL-URL:https://www.arhiepiscopiasucevei.ro
X-WR-CALDESC:Events for Arhiepiscopia Sucevei și Rădăuților
REFRESH-INTERVAL;VALUE=DURATION:PT1H
X-Robots-Tag:noindex
X-PUBLISHED-TTL:PT1H
BEGIN:VTIMEZONE
TZID:Europe/Bucharest
BEGIN:DAYLIGHT
TZOFFSETFROM:+0200
TZOFFSETTO:+0300
TZNAME:EEST
DTSTART:20210328T010000
END:DAYLIGHT
BEGIN:STANDARD
TZOFFSETFROM:+0300
TZOFFSETTO:+0200
TZNAME:EET
DTSTART:20211031T010000
END:STANDARD
END:VTIMEZONE
BEGIN:VEVENT
DTSTART;TZID=Europe/Bucharest:20210919T080000
DTEND;TZID=Europe/Bucharest:20210919T120000
DTSTAMP:20260420T231658
CREATED:20210918T182348Z
LAST-MODIFIED:20210918T182348Z
UID:21856-1632038400-1632052800@www.arhiepiscopiasucevei.ro
SUMMARY:Agenda ierarhilor în Duminica după Înălțarea Sfintei Cruci
DESCRIPTION:Duminică\, 19 septembrie 2021 – Duminica după Înălțarea Sfintei Cruci (Luarea Crucii și urmarea lui Hristos) \nPreasfințitul Părinte Damaschin Dorneanul\, Episcop-Vicar al Arhiepiscopiei Sucevei și Rădăuților\, va sluji Sfânta Liturghie la Parohia Moara.
URL:https://www.arhiepiscopiasucevei.ro/evenimente/agenda-ierarhilor-in-duminica-dupa-inaltarea-sfintei-cruci/
CATEGORIES:Agenda Ierarhilor
END:VEVENT
END:VCALENDAR