BEGIN:VCALENDAR
VERSION:2.0
PRODID:-//Arhiepiscopia Sucevei și Rădăuților - ECPv5.13.0//NONSGML v1.0//EN
CALSCALE:GREGORIAN
METHOD:PUBLISH
X-WR-CALNAME:Arhiepiscopia Sucevei și Rădăuților
X-ORIGINAL-URL:https://www.arhiepiscopiasucevei.ro
X-WR-CALDESC:Events for Arhiepiscopia Sucevei și Rădăuților
REFRESH-INTERVAL;VALUE=DURATION:PT1H
X-Robots-Tag:noindex
X-PUBLISHED-TTL:PT1H
BEGIN:VTIMEZONE
TZID:Europe/Bucharest
BEGIN:DAYLIGHT
TZOFFSETFROM:+0200
TZOFFSETTO:+0300
TZNAME:EEST
DTSTART:20210328T010000
END:DAYLIGHT
BEGIN:STANDARD
TZOFFSETFROM:+0300
TZOFFSETTO:+0200
TZNAME:EET
DTSTART:20211031T010000
END:STANDARD
END:VTIMEZONE
BEGIN:VEVENT
DTSTART;TZID=Europe/Bucharest:20210905T080000
DTEND;TZID=Europe/Bucharest:20210905T123000
DTSTAMP:20260420T231659
CREATED:20210904T104542Z
LAST-MODIFIED:20210904T154213Z
UID:21241-1630828800-1630845000@www.arhiepiscopiasucevei.ro
SUMMARY:Agenda ierarhilor în Duminica a XI-a după Rusalii
DESCRIPTION:Duminică\, 5 septembrie 2021 – Duminica a XI-a după Rusalii (Pilda datornicului nemilostiv) \nPreasfințitul Părinte Damaschin Dorneanul\, Episcop-Vicar al Arhiepiscopiei Sucevei și Rădăuților\, va sluji Sfânta Liturghie la Biserica „Sfântul Ierarh Nicolae” din Berchișești\, Protopopiat Suceava II\, împreună cu Înaltpreasfințitul Părinte Teodosie\, Arhiepiscopul Tomisului\, cu prilejul resfințirii.
URL:https://www.arhiepiscopiasucevei.ro/evenimente/agenda-ierarhilor-in-duminica-a-xi-a-dupa-rusalii/
CATEGORIES:Agenda Ierarhilor
END:VEVENT
END:VCALENDAR