BEGIN:VCALENDAR
VERSION:2.0
PRODID:-//Arhiepiscopia Sucevei și Rădăuților - ECPv5.13.0//NONSGML v1.0//EN
CALSCALE:GREGORIAN
METHOD:PUBLISH
X-WR-CALNAME:Arhiepiscopia Sucevei și Rădăuților
X-ORIGINAL-URL:https://www.arhiepiscopiasucevei.ro
X-WR-CALDESC:Events for Arhiepiscopia Sucevei și Rădăuților
REFRESH-INTERVAL;VALUE=DURATION:PT1H
X-Robots-Tag:noindex
X-PUBLISHED-TTL:PT1H
BEGIN:VTIMEZONE
TZID:Europe/Bucharest
BEGIN:DAYLIGHT
TZOFFSETFROM:+0200
TZOFFSETTO:+0300
TZNAME:EEST
DTSTART:20210328T010000
END:DAYLIGHT
BEGIN:STANDARD
TZOFFSETFROM:+0300
TZOFFSETTO:+0200
TZNAME:EET
DTSTART:20211031T010000
END:STANDARD
END:VTIMEZONE
BEGIN:VEVENT
DTSTART;TZID=Europe/Bucharest:20210829T080000
DTEND;TZID=Europe/Bucharest:20210829T123000
DTSTAMP:20260421T005240
CREATED:20210828T104133Z
LAST-MODIFIED:20210828T104133Z
UID:21065-1630224000-1630240200@www.arhiepiscopiasucevei.ro
SUMMARY:Agenda ierarhilor în Duminica a X-a după Rusalii și la Sărbătoarea Tăierii Capului Sf. Proroc Ioan Botezătorul
DESCRIPTION:Duminică\, 29 august 2021 – Duminica a X-a după Rusalii (Vindecarea lunatecului) și Tăierea Capului Sf. Proroc Ioan Botezătorul \nÎnaltpreasfințitul Părinte Calinic\, Arhiepiscop al Sucevei și Rădăuților\, va sluji Sfânta Liturghie la Mănăstirea Sihăstria Râșcăi.
URL:https://www.arhiepiscopiasucevei.ro/evenimente/agenda-ierarhilor-in-duminica-a-x-a-dupa-rusalii-si-la-sarbatoarea-taierii-capului-sf-proroc-ioan-botezatorul/
CATEGORIES:Agenda Ierarhilor
END:VEVENT
END:VCALENDAR