BEGIN:VCALENDAR
VERSION:2.0
PRODID:-//Arhiepiscopia Sucevei și Rădăuților - ECPv5.13.0//NONSGML v1.0//EN
CALSCALE:GREGORIAN
METHOD:PUBLISH
X-WR-CALNAME:Arhiepiscopia Sucevei și Rădăuților
X-ORIGINAL-URL:https://www.arhiepiscopiasucevei.ro
X-WR-CALDESC:Events for Arhiepiscopia Sucevei și Rădăuților
REFRESH-INTERVAL;VALUE=DURATION:PT1H
X-Robots-Tag:noindex
X-PUBLISHED-TTL:PT1H
BEGIN:VTIMEZONE
TZID:Europe/Bucharest
BEGIN:DAYLIGHT
TZOFFSETFROM:+0200
TZOFFSETTO:+0300
TZNAME:EEST
DTSTART:20210328T010000
END:DAYLIGHT
BEGIN:STANDARD
TZOFFSETFROM:+0300
TZOFFSETTO:+0200
TZNAME:EET
DTSTART:20211031T010000
END:STANDARD
END:VTIMEZONE
BEGIN:VEVENT
DTSTART;TZID=Europe/Bucharest:20210815T080000
DTEND;TZID=Europe/Bucharest:20210815T130000
DTSTAMP:20260421T005418
CREATED:20210814T131834Z
LAST-MODIFIED:20210814T132810Z
UID:20177-1629014400-1629032400@www.arhiepiscopiasucevei.ro
SUMMARY:Agenda ierarhilor la Praznicul Adormirii Maicii Domnului
DESCRIPTION:Duminică\, 15 august 2021 – Praznicul Adormirii Maicii Domnului \nÎnaltpreasfințitul Părinte Calinic\, Arhiepiscop al Sucevei și Rădăuților\, va săvârși alături de Preafericitul Părinte Daniel\, Patriarhul Bisericii Ortodoxe Române\, Sfânta Liturghie la Mănăstirea Putna\, împreună cu un sobor de ierarhi\, între care și Preasfințitul Părinte Damaschin Dorneanul\, Episcop-Vicar.
URL:https://www.arhiepiscopiasucevei.ro/evenimente/agenda-ierarhilor-la-praznicul-adormirii-maicii-domnului/
CATEGORIES:Agenda Ierarhilor
END:VEVENT
END:VCALENDAR