BEGIN:VCALENDAR
VERSION:2.0
PRODID:-//Arhiepiscopia Sucevei și Rădăuților - ECPv5.13.0//NONSGML v1.0//EN
CALSCALE:GREGORIAN
METHOD:PUBLISH
X-WR-CALNAME:Arhiepiscopia Sucevei și Rădăuților
X-ORIGINAL-URL:https://www.arhiepiscopiasucevei.ro
X-WR-CALDESC:Events for Arhiepiscopia Sucevei și Rădăuților
REFRESH-INTERVAL;VALUE=DURATION:PT1H
X-Robots-Tag:noindex
X-PUBLISHED-TTL:PT1H
BEGIN:VTIMEZONE
TZID:Europe/Bucharest
BEGIN:DAYLIGHT
TZOFFSETFROM:+0200
TZOFFSETTO:+0300
TZNAME:EEST
DTSTART:20210328T010000
END:DAYLIGHT
BEGIN:STANDARD
TZOFFSETFROM:+0300
TZOFFSETTO:+0200
TZNAME:EET
DTSTART:20211031T010000
END:STANDARD
END:VTIMEZONE
BEGIN:VEVENT
DTSTART;TZID=Europe/Bucharest:20210609T080000
DTEND;TZID=Europe/Bucharest:20210610T170000
DTSTAMP:20260421T043031
CREATED:20210609T060032Z
LAST-MODIFIED:20210609T080103Z
UID:16552-1623225600-1623344400@www.arhiepiscopiasucevei.ro
SUMMARY:Agenda ierarhilor la Praznicul „Înălțarea Domnului”
DESCRIPTION:Joi\, 10 iunie 2021 – Înălțarea Domnului (Ziua Eroilor) \nÎnaltpreasfințitul Părinte Calinic\, Arhiepiscop al Sucevei și Rădăuților\, va sluji Sfânta Liturghie la Mănăstirea Sfântul Ioan cel Nou\, Catedrala Arhiepiscopală din Suceava. \nPreasfințitul Părinte Damaschin Dorneanul\, Episcop-Vicar al Arhiepiscopiei Sucevei și Rădăuților\, va sluji la Mănăstirea Neamț\, cu ocazia hramului.
URL:https://www.arhiepiscopiasucevei.ro/evenimente/agenda-ierarhilor-la-praznicul-inaltarea-domnului/
END:VEVENT
END:VCALENDAR