BEGIN:VCALENDAR
VERSION:2.0
PRODID:-//Arhiepiscopia Sucevei și Rădăuților - ECPv5.13.0//NONSGML v1.0//EN
CALSCALE:GREGORIAN
METHOD:PUBLISH
X-WR-CALNAME:Arhiepiscopia Sucevei și Rădăuților
X-ORIGINAL-URL:https://www.arhiepiscopiasucevei.ro
X-WR-CALDESC:Events for Arhiepiscopia Sucevei și Rădăuților
REFRESH-INTERVAL;VALUE=DURATION:PT1H
X-Robots-Tag:noindex
X-PUBLISHED-TTL:PT1H
BEGIN:VTIMEZONE
TZID:Europe/Bucharest
BEGIN:DAYLIGHT
TZOFFSETFROM:+0200
TZOFFSETTO:+0300
TZNAME:EEST
DTSTART:20210328T010000
END:DAYLIGHT
BEGIN:STANDARD
TZOFFSETFROM:+0300
TZOFFSETTO:+0200
TZNAME:EET
DTSTART:20211031T010000
END:STANDARD
END:VTIMEZONE
BEGIN:VEVENT
DTSTART;VALUE=DATE:20210520
DTEND;VALUE=DATE:20210521
DTSTAMP:20260421T055857
CREATED:20210406T122653Z
LAST-MODIFIED:20210528T061719Z
UID:6902-1621468800-1621555199@www.arhiepiscopiasucevei.ro
SUMMARY:Slujba Parastasului la un an de la trecerea la cele veșnice a Înaltpreasfințitului Părinte Arhiepiscop Pimen
DESCRIPTION:Joi\, 20 mai 2021\, Înaltpreasfințitul Părinte Pimen va fi pomenit la împlinirea unui an de la trecerea la cele veșnice atât la Mănăstirea „Sfântul Ioan cel Nou” din Suceava\, cât și la Mănăstirea Sihăstria Putnei\, locul în care acesta și-a pregătit mormântul. \nÎncepând cu ora 8:00 va fi săvârșită Sfânta Liturghie de către membri ai Sinodului Mitropolitan al Mitropoliei Moldovei şi Bucovinei\, pe un podium special amenajat în curtea Mănăstirii „Sfântul Ioan cel Nou”. \nDe la ora 10:00\, la Catedrala Arhiepiscopală și în întregul cuprins al eparhiei se va oficia slujba Parastasului și se vor trage clopotele pentru cel care a fost vrednic păstor al acestui ținut vreme de aproape trei decenii. \nDupă acest moment\, va urma\, la Mănăstirea Sihăstria Putnei\, de la ora 13:00\, slujba Parastasului la mormântul Părintelui Arhiepiscop. \nEvenimentul va fi transmis live pe pagina oficială de Facebook a Arhiepiscopiei Sucevei și Rădăuților. \nBiroul de Presă al Arhiepiscopiei Sucevei și Rădăuților
URL:https://www.arhiepiscopiasucevei.ro/evenimente/agenda-ierarhilor-in-duminica-a-treia-din-post-a-sfintei-cruci-3/
CATEGORIES:Agenda Ierarhilor
END:VEVENT
END:VCALENDAR